Workbook
Name A4_: Jan!$D$6
Name Alimentação: Real!#REF!
Name FeiraSacolão: Real!#REF!
Name Janeiro: Real!$A$2:$O$77
Name Moradia: Real!#REF!
Name Outroscafés: Real!#REF!
Name Padaria: Real!#REF!
Name Refeiçãoforadecasa: Real!#REF!
Name Supermercado: Real!#REF!
Name Supermercado: Jan!$D$6

Sheet Instruções
B1: Orçamento Doméstico
B3: Por que elaborar um plano de orçamento doméstico ?
B6: 1) acompanhar a origem e destino das receitas (salário e rendimento adicional);
B7: 2) identificar o hábito de consumo e os bens e serviços essenciais;
B8: 3) controlar gastos para manter o equilíbrio financeiro;
B9: 4) prever os rendimentos para o mês à frente;
B10: 5) planejar e definir prioridades
B12: A elaboração do orçamento doméstico exige dedicação, porém, é necessária para quem tem planos e deseja ter mais tranquilidade para lidar com as contas e realizar projetos futuros.
B13: Estabelecer metas e envolver a família contribui para alcançar esse objetivo.
B17: Como utilizar a planilha de orçamento doméstico
B19: 1º passo: | C19: Para mudar o ano nas pastas digite o novo período aqui | I19: 2026
C20: Identifique a pasta correspondente ao mês de consumo conforme o nome indicado no rodapé da planilha.
C23: Ao iniciar o uso da planilha limpe as informações inseridas como exemplos nos campos autorizados para ilustrar a funcionalidade da ferramenta.
C24: As pastas que NÃO necessitam de preenchimento estão protegidas por senhas para evitar que as fórmulas sejam apagadas acidentalmente.
B25: 2º passo: | C25: A planilha está configurada em: Pastas com nome dos meses de consumo; pasta "Real" consolida as informações lançadas mensalmente; pasta "Previsão" para lançamento antecipado
C26: dos gastos previstos para todo o ano seguinte; pasta "C.Crédito" para acompanhamento das compras parceladas; pasta "Aplicações" para consolidar informações sobre investimentos;
C27: pasta "Real x Previsto" para comparar os gastos realizados e previstos e auxiliar na reoganização dos recursos; e pasta "Gráfico" para avaliar o desempenho e identificar origem e destino
C28: dos recursos .
C29: É importante antes de iniciar o ano, preencher a planilha de previsão, não precisa ser valores exatos, basta acompanhar a média de receita e despesas do ano anterior.
C30: Para auxiliar a identificação de onde a conta deve ser lançada, entre em qualquer mês e localize o botão e localize
C31: onde esta conta deve ser lançada e preencha todos os meses. Esta planilha será preenchida uma única vez, você gastará um tempinho a mais, porém, somente uma vez para preencher
C32: os campos, imagine como será sua vida financeira durante o ano todo.
C34: No dia-a-dia o preenchimento da planilha será mais rápido e fácil, após selecionar o mês em curso, preencha apenas os campos com fundo branco, cada conta ocupará uma linha.
C35: Serão preenchidas cinco campos: Código da conta, data, descritivo ou nome do fornecedor, valor e meio de pagamento.
C37: As informações mais revelantes sobre receita/despesa serão preenchidas nas pastas mensais. As pastas: "Real" e "Gráfico" serão preenchidas automaticamente, as pastas "C.Crédito" e
C38: "Aplicações" apresentam campos que devem ser preenchidos conforme a orientação indicada nas pastas.
B40: 3º passo: | C40: Nas pastas mensais, além do lançamento da conta (receita ou despesa), haverá um registro da movimentação financeira, através do saldo de pagamento das contas.
C41: A movimentação do saldo no mês, partirá do saldo anterior, que deverá ser preenchido ao iniciar o mês, o fluxo será atualizado a cada novo lançamento de conta. Para essa condição,
C42: a movimentação seguirá os meios de pagamento e respectivos canais (conta corrente, dinheiro e cartão de crédito).
C43: Para que os campos da movimentação do saldo no mês reconheça qual canal de pagamento foi utilizado, realize a (entrada/saída) ao lado do valor de cada conta com o botão
C44: e registre no campo correspondente o código do meio de pagamento.
C46: Preencha somente os campos vazios com fundo branco, cada despesa deverá ocupar uma linha, para saber qual o código correspondente.
C48: Antes de fazer o lançamento verifique o código da despesa. Ex.: Grupo Educação - Subgrupo Matrícula/Mensalidade = E1. Ao digitar o código o texto surgirá no campo indicado
C49: basta lançar o nome do estabelecimento, o valor e o meio de pagamento utilizado.
L50: Digite nos campos correspondentes o saldo final do mês anterior
L51: e saldo parcelado do cartão de crédito para próxima fatura
B57: 4º passo: | C57: As informações lançadas nos meses serão automaticamente transferedas para a pasta "Real" , nessa tabela será possível acompanhar tudo que foi recebido e gasto no ano.
C58: Logo abaixo da tabela com detalhamento das contas, está disponível o consolidado e o resumo do fluxo dos meios de pagamentos (entradas/saídas). O acompanhamento
C59: dessas duas planilhas é importante para a compreensão que não pagamos exatamente como recebemos e consumimos, portanto uma complementa a outra e auxilia na decisão
C60: de como consumir e administrar o risco de endividamento.
...

Sheet Jan
C1: Orçamento Doméstico
B2: Descritivo de Receitas e Despesas realizadas | F2: Janeiro | H2: =+Instruções!$I$19 -> 2026 | J2: Movimentação do saldo no mês
H3: Meio de pagamento | J3: Saldo do mês anterior
B4: Grupo de conta | C4: Sub-grupo de conta | D4: Cod. | E4: Data | F4: Descritivo | G4: Valor R$ | J4: C.Corrente (+ / -) | K4: Dinheiro (+ / -) | L4: C. de Crédito (+)
J5: -92.8 | L5: 220
A6: 1 | B6: =IF(IF(ISERROR(VLOOKUP(D6,Codigo!$B$4:$C$67,2,FALSE)),"",VLOOKUP(D6,Codigo!$B$4:$C$67,2,FALSE))=D6,"",VLOOKUP(D6,(Codigo!$B$4:$C$67),2,FALSE)) -> Receita | C6: =IF(IF(ISERROR(VLOOKUP(D6,Codigo!$B$4:$C$67,2,FALSE)),"",VLOOKUP(D6,Codigo!$B$4:$C$67,2,FALSE))=D6,"",VLOOKUP(D6,(Codigo!$B$2:$D$67),3,FALSE)) -> Aposentadoria | D6: R4 | E6: 40909 | F6: INSS | G6: 1000 | H6: DP | J6: =IF(H6="",(""),IF(H6="DP",(J5+G6),IF(H6="DB",(J5-G6),IF(H6="TR",(J5-G6),IF(H6="CH",(J5-G6),IF(H6="SQ",(J5-G6),J5)))))) -> 907.2 | K6: =IF(H6="",(""),IF(H6="SQ",(K5+G6),IF(H6="RD",(K5+G6),IF(H6="DI",(K5-G6),K5)))) -> 0 | L6: =IF(H6="",(""),IF(H6="CC",(L5+G6),IF(H6="PC",(L5+G6),L5))) -> 220
B7: =IF(IF(ISERROR(VLOOKUP(D7,Codigo!$B$4:$C$67,2,FALSE)),"",VLOOKUP(D7,Codigo!$B$4:$C$67,2,FALSE))=D7,"",VLOOKUP(D7,(Codigo!$B$4:$C$67),2,FALSE)) -> Alimentação | C7: =IF(IF(ISERROR(VLOOKUP(D7,Codigo!$B$4:$C$67,2,FALSE)),"",VLOOKUP(D7,Codigo!$B$4:$C$67,2,FALSE))=D7,"",VLOOKUP(D7,(Codigo!$B$2:$D$67),3,FALSE)) -> Supermercado | D7: a1 | E7: 41275 | F7: xx | G7: 500 | H7: DB | J7: =IF(H7="",(""),IF(H7="DP",(J6+G7),IF(H7="DB",(J6-G7),IF(H7="TR",(J6-G7),IF(H7="CH",(J6-G7),IF(H7="SQ",(J6-G7),J6)))))) -> 407.2 | K7: =IF(H7="",(""),IF(H7="SQ",(K6+G7),IF(H7="RD",(K6+G7),IF(H7="DI",(K6-G7),K6)))) -> 0 | L7: =IF(H7="",(""),IF(H7="CC",(L6+G7),IF(H7="PC",(L6+G7),L6))) -> 220
B8: =IF(IF(ISERROR(VLOOKUP(D8,Codigo!$B$4:$C$67,2,FALSE)),"",VLOOKUP(D8,Codigo!$B$4:$C$67,2,FALSE))=D8,"",VLOOKUP(D8,(Codigo!$B$4:$C$67),2,FALSE)) -> Serviços Financeiros | C8: =IF(IF(ISERROR(VLOOKUP(D8,Codigo!$B$4:$C$67,2,FALSE)),"",VLOOKUP(D8,Codigo!$B$4:$C$67,2,FALSE))=D8,"",VLOOKUP(D8,(Codigo!$B$2:$D$67),3,FALSE)) -> Previdência privada | D8: f3 | E8: 1 | F8: banco x | G8: 500 | H8: tr | J8: =IF(H8="",(""),IF(H8="DP",(J7+G8),IF(H8="DB",(J7-G8),IF(H8="TR",(J7-G8),IF(H8="CH",(J7-G8),IF(H8="SQ",(J7-G8),J7)))))) -> -92.8 | K8: =IF(H8="",(""),IF(H8="SQ",(K7+G8),IF(H8="RD",(K7+G8),IF(H8="DI",(K7-G8),K7)))) -> 0 | L8: =IF(H8="",(""),IF(H8="CC",(L7+G8),IF(H8="PC",(L7+G8),L7))) -> 220
B9: =IF(IF(ISERROR(VLOOKUP(D9,Codigo!$B$4:$C$67,2,FALSE)),"",VLOOKUP(D9,Codigo!$B$4:$C$67,2,FALSE))=D9,"",VLOOKUP(D9,(Codigo!$B$4:$C$67),2,FALSE)) -> Alimentação | C9: =IF(IF(ISERROR(VLOOKUP(D9,Codigo!$B$4:$C$67,2,FALSE)),"",VLOOKUP(D9,Codigo!$B$4:$C$67,2,FALSE))=D9,"",VLOOKUP(D9,(Codigo!$B$2:$D$67),3,FALSE)) -> Supermercado | D9: a1 | E9: 41275 | F9: Loja | G9: 650 | H9: cc | J9: =IF(H9="",(""),IF(H9="DP",(J8+G9),IF(H9="DB",(J8-G9),IF(H9="TR",(J8-G9),IF(H9="CH",(J8-G9),IF(H9="SQ",(J8-G9),J8)))))) -> -92.8 | K9: =IF(H9="",(""),IF(H9="SQ",(K8+G9),IF(H9="RD",(K8+G9),IF(H9="DI",(K8-G9),K8)))) -> 0 | L9: =IF(H9="",(""),IF(H9="CC",(L8+G9),IF(H9="PC",(L8+G9),L8))) -> 870
B10: =IF(IF(ISERROR(VLOOKUP(D10,Codigo!$B$4:$C$67,2,FALSE)),"",VLOOKUP(D10,Codigo!$B$4:$C$67,2,FALSE))=D10,"",VLOOKUP(D10,(Codigo!$B$4:$C$67),2,FALSE)) | C10: =IF(IF(ISERROR(VLOOKUP(D10,Codigo!$B$4:$C$67,2,FALSE)),"",VLOOKUP(D10,Codigo!$B$4:$C$67,2,FALSE))=D10,"",VLOOKUP(D10,(Codigo!$B$2:$D$67),3,FALSE)) | J10: =IF(H10="",(""),IF(H10="DP",(J9+G10),IF(H10="DB",(J9-G10),IF(H10="TR",(J9-G10),IF(H10="CH",(J9-G10),IF(H10="SQ",(J9-G10),J9)))))) | K10: =IF(H10="",(""),IF(H10="SQ",(K9+G10),IF(H10="RD",(K9+G10),IF(H10="DI",(K9-G10),K9)))) | L10: =IF(H10="",(""),IF(H10="CC",(L9+G10),IF(H10="PC",(L9+G10),L9)))
B11: =IF(IF(ISERROR(VLOOKUP(D11,Codigo!$B$4:$C$67,2,FALSE)),"",VLOOKUP(D11,Codigo!$B$4:$C$67,2,FALSE))=D11,"",VLOOKUP(D11,(Codigo!$B$4:$C$67),2,FALSE)) | C11: =IF(IF(ISERROR(VLOOKUP(D11,Codigo!$B$4:$C$67,2,FALSE)),"",VLOOKUP(D11,Codigo!$B$4:$C$67,2,FALSE))=D11,"",VLOOKUP(D11,(Codigo!$B$2:$D$67),3,FALSE)) | J11: =IF(H11="",(""),IF(H11="DP",(J10+G11),IF(H11="DB",(J10-G11),IF(H11="TR",(J10-G11),IF(H11="CH",(J10-G11),IF(H11="SQ",(J10-G11),J10)))))) | K11: =IF(H11="",(""),IF(H11="SQ",(K10+G11),IF(H11="RD",(K10+G11),IF(H11="DI",(K10-G11),K10)))) | L11: =IF(H11="",(""),IF(H11="CC",(L10+G11),IF(H11="PC",(L10+G11),L10)))
B12: =IF(IF(ISERROR(VLOOKUP(D12,Codigo!$B$4:$C$67,2,FALSE)),"",VLOOKUP(D12,Codigo!$B$4:$C$67,2,FALSE))=D12,"",VLOOKUP(D12,(Codigo!$B$4:$C$67),2,FALSE)) | C12: =IF(IF(ISERROR(VLOOKUP(D12,Codigo!$B$4:$C$67,2,FALSE)),"",VLOOKUP(D12,Codigo!$B$4:$C$67,2,FALSE))=D12,"",VLOOKUP(D12,(Codigo!$B$2:$D$67),3,FALSE)) | J12: =IF(H12="",(""),IF(H12="DP",(J11+G12),IF(H12="DB",(J11-G12),IF(H12="TR",(J11-G12),IF(H12="CH",(J11-G12),IF(H12="SQ",(J11-G12),J11)))))) | K12: =IF(H12="",(""),IF(H12="SQ",(K11+G12),IF(H12="RD",(K11+G12),IF(H12="DI",(K11-G12),K11)))) | L12: =IF(H12="",(""),IF(H12="CC",(L11+G12),IF(H12="PC",(L11+G12),L11)))
B13: =IF(IF(ISERROR(VLOOKUP(D13,Codigo!$B$4:$C$67,2,FALSE)),"",VLOOKUP(D13,Codigo!$B$4:$C$67,2,FALSE))=D13,"",VLOOKUP(D13,(Codigo!$B$4:$C$67),2,FALSE)) | C13: =IF(IF(ISERROR(VLOOKUP(D13,Codigo!$B$4:$C$67,2,FALSE)),"",VLOOKUP(D13,Codigo!$B$4:$C$67,2,FALSE))=D13,"",VLOOKUP(D13,(Codigo!$B$2:$D$67),3,FALSE)) | J13: =IF(H13="",(""),IF(H13="DP",(J12+G13),IF(H13="DB",(J12-G13),IF(H13="TR",(J12-G13),IF(H13="CH",(J12-G13),IF(H13="SQ",(J12-G13),J12)))))) | K13: =IF(H13="",(""),IF(H13="SQ",(K12+G13),IF(H13="RD",(K12+G13),IF(H13="DI",(K12-G13),K12)))) | L13: =IF(H13="",(""),IF(H13="CC",(L12+G13),IF(H13="PC",(L12+G13),L12)))
B14: =IF(IF(ISERROR(VLOOKUP(D14,Codigo!$B$4:$C$67,2,FALSE)),"",VLOOKUP(D14,Codigo!$B$4:$C$67,2,FALSE))=D14,"",VLOOKUP(D14,(Codigo!$B$4:$C$67),2,FALSE)) | C14: =IF(IF(ISERROR(VLOOKUP(D14,Codigo!$B$4:$C$67,2,FALSE)),"",VLOOKUP(D14,Codigo!$B$4:$C$67,2,FALSE))=D14,"",VLOOKUP(D14,(Codigo!$B$2:$D$67),3,FALSE)) | J14: =IF(H14="",(""),IF(H14="DP",(J13+G14),IF(H14="DB",(J13-G14),IF(H14="TR",(J13-G14),IF(H14="CH",(J13-G14),IF(H14="SQ",(J13-G14),J13)))))) | K14: =IF(H14="",(""),IF(H14="SQ",(K13+G14),IF(H14="RD",(K13+G14),IF(H14="DI",(K13-G14),K13)))) | L14: =IF(H14="",(""),IF(H14="CC",(L13+G14),IF(H14="PC",(L13+G14),L13)))
B15: =IF(IF(ISERROR(VLOOKUP(D15,Codigo!$B$4:$C$67,2,FALSE)),"",VLOOKUP(D15,Codigo!$B$4:$C$67,2,FALSE))=D15,"",VLOOKUP(D15,(Codigo!$B$4:$C$67),2,FALSE)) | C15: =IF(IF(ISERROR(VLOOKUP(D15,Codigo!$B$4:$C$67,2,FALSE)),"",VLOOKUP(D15,Codigo!$B$4:$C$67,2,FALSE))=D15,"",VLOOKUP(D15,(Codigo!$B$2:$D$67),3,FALSE)) | J15: =IF(H15="",(""),IF(H15="DP",(J14+G15),IF(H15="DB",(J14-G15),IF(H15="TR",(J14-G15),IF(H15="CH",(J14-G15),IF(H15="SQ",(J14-G15),J14)))))) | K15: =IF(H15="",(""),IF(H15="SQ",(K14+G15),IF(H15="RD",(K14+G15),IF(H15="DI",(K14-G15),K14)))) | L15: =IF(H15="",(""),IF(H15="CC",(L14+G15),IF(H15="PC",(L14+G15),L14)))
B16: =IF(IF(ISERROR(VLOOKUP(D16,Codigo!$B$4:$C$67,2,FALSE)),"",VLOOKUP(D16,Codigo!$B$4:$C$67,2,FALSE))=D16,"",VLOOKUP(D16,(Codigo!$B$4:$C$67),2,FALSE)) | C16: =IF(IF(ISERROR(VLOOKUP(D16,Codigo!$B$4:$C$67,2,FALSE)),"",VLOOKUP(D16,Codigo!$B$4:$C$67,2,FALSE))=D16,"",VLOOKUP(D16,(Codigo!$B$2:$D$67),3,FALSE)) | J16: =IF(H16="",(""),IF(H16="DP",(J15+G16),IF(H16="DB",(J15-G16),IF(H16="TR",(J15-G16),IF(H16="CH",(J15-G16),IF(H16="SQ",(J15-G16),J15)))))) | K16: =IF(H16="",(""),IF(H16="SQ",(K15+G16),IF(H16="RD",(K15+G16),IF(H16="DI",(K15-G16),K15)))) | L16: =IF(H16="",(""),IF(H16="CC",(L15+G16),IF(H16="PC",(L15+G16),L15)))
B17: =IF(IF(ISERROR(VLOOKUP(D17,Codigo!$B$4:$C$67,2,FALSE)),"",VLOOKUP(D17,Codigo!$B$4:$C$67,2,FALSE))=D17,"",VLOOKUP(D17,(Codigo!$B$4:$C$67),2,FALSE)) | C17: =IF(IF(ISERROR(VLOOKUP(D17,Codigo!$B$4:$C$67,2,FALSE)),"",VLOOKUP(D17,Codigo!$B$4:$C$67,2,FALSE))=D17,"",VLOOKUP(D17,(Codigo!$B$2:$D$67),3,FALSE)) | J17: =IF(H17="",(""),IF(H17="DP",(J16+G17),IF(H17="DB",(J16-G17),IF(H17="TR",(J16-G17),IF(H17="CH",(J16-G17),IF(H17="SQ",(J16-G17),J16)))))) | K17: =IF(H17="",(""),IF(H17="SQ",(K16+G17),IF(H17="RD",(K16+G17),IF(H17="DI",(K16-G17),K16)))) | L17: =IF(H17="",(""),IF(H17="CC",(L16+G17),IF(H17="PC",(L16+G17),L16)))
B18: =IF(IF(ISERROR(VLOOKUP(D18,Codigo!$B$4:$C$67,2,FALSE)),"",VLOOKUP(D18,Codigo!$B$4:$C$67,2,FALSE))=D18,"",VLOOKUP(D18,(Codigo!$B$4:$C$67),2,FALSE)) | C18: =IF(IF(ISERROR(VLOOKUP(D18,Codigo!$B$4:$C$67,2,FALSE)),"",VLOOKUP(D18,Codigo!$B$4:$C$67,2,FALSE))=D18,"",VLOOKUP(D18,(Codigo!$B$2:$D$67),3,FALSE)) | J18: =IF(H18="",(""),IF(H18="DP",(J17+G18),IF(H18="DB",(J17-G18),IF(H18="TR",(J17-G18),IF(H18="CH",(J17-G18),IF(H18="SQ",(J17-G18),J17)))))) | K18: =IF(H18="",(""),IF(H18="SQ",(K17+G18),IF(H18="RD",(K17+G18),IF(H18="DI",(K17-G18),K17)))) | L18: =IF(H18="",(""),IF(H18="CC",(L17+G18),IF(H18="PC",(L17+G18),L17)))
B19: =IF(IF(ISERROR(VLOOKUP(D19,Codigo!$B$4:$C$67,2,FALSE)),"",VLOOKUP(D19,Codigo!$B$4:$C$67,2,FALSE))=D19,"",VLOOKUP(D19,(Codigo!$B$4:$C$67),2,FALSE)) | C19: =IF(IF(ISERROR(VLOOKUP(D19,Codigo!$B$4:$C$67,2,FALSE)),"",VLOOKUP(D19,Codigo!$B$4:$C$67,2,FALSE))=D19,"",VLOOKUP(D19,(Codigo!$B$2:$D$67),3,FALSE)) | J19: =IF(H19="",(""),IF(H19="DP",(J18+G19),IF(H19="DB",(J18-G19),IF(H19="TR",(J18-G19),IF(H19="CH",(J18-G19),IF(H19="SQ",(J18-G19),J18)))))) | K19: =IF(H19="",(""),IF(H19="SQ",(K18+G19),IF(H19="RD",(K18+G19),IF(H19="DI",(K18-G19),K18)))) | L19: =IF(H19="",(""),IF(H19="CC",(L18+G19),IF(H19="PC",(L18+G19),L18)))
B20: =IF(IF(ISERROR(VLOOKUP(D20,Codigo!$B$4:$C$67,2,FALSE)),"",VLOOKUP(D20,Codigo!$B$4:$C$67,2,FALSE))=D20,"",VLOOKUP(D20,(Codigo!$B$4:$C$67),2,FALSE)) | C20: =IF(IF(ISERROR(VLOOKUP(D20,Codigo!$B$4:$C$67,2,FALSE)),"",VLOOKUP(D20,Codigo!$B$4:$C$67,2,FALSE))=D20,"",VLOOKUP(D20,(Codigo!$B$2:$D$67),3,FALSE)) | J20: =IF(H20="",(""),IF(H20="DP",(J19+G20),IF(H20="DB",(J19-G20),IF(H20="TR",(J19-G20),IF(H20="CH",(J19-G20),IF(H20="SQ",(J19-G20),J19)))))) | K20: =IF(H20="",(""),IF(H20="SQ",(K19+G20),IF(H20="RD",(K19+G20),IF(H20="DI",(K19-G20),K19)))) | L20: =IF(H20="",(""),IF(H20="CC",(L19+G20),IF(H20="PC",(L19+G20),L19)))
B21: =IF(IF(ISERROR(VLOOKUP(D21,Codigo!$B$4:$C$67,2,FALSE)),"",VLOOKUP(D21,Codigo!$B$4:$C$67,2,FALSE))=D21,"",VLOOKUP(D21,(Codigo!$B$4:$C$67),2,FALSE)) | C21: =IF(IF(ISERROR(VLOOKUP(D21,Codigo!$B$4:$C$67,2,FALSE)),"",VLOOKUP(D21,Codigo!$B$4:$C$67,2,FALSE))=D21,"",VLOOKUP(D21,(Codigo!$B$2:$D$67),3,FALSE)) | J21: =IF(H21="",(""),IF(H21="DP",(J20+G21),IF(H21="DB",(J20-G21),IF(H21="TR",(J20-G21),IF(H21="CH",(J20-G21),IF(H21="SQ",(J20-G21),J20)))))) | K21: =IF(H21="",(""),IF(H21="SQ",(K20+G21),IF(H21="RD",(K20+G21),IF(H21="DI",(K20-G21),K20)))) | L21: =IF(H21="",(""),IF(H21="CC",(L20+G21),IF(H21="PC",(L20+G21),L20)))
... B75: =IF(IF(ISERROR(VLOOKUP(D75,Codigo!$B$4:$C$67,2,FALSE)),"",VLOOKUP(D75,Codigo!$B$4:$C$67,2,FALSE))=D75,"",VLOOKUP(D75,(Codigo!$B$4:$C$67),2,FALSE)) | C75: =IF(IF(ISERROR(VLOOKUP(D75,Codigo!$B$4:$C$67,2,FALSE)),"",VLOOKUP(D75,Codigo!$B$4:$C$67,2,FALSE))=D75,"",VLOOKUP(D75,(Codigo!$B$2:$D$67),3,FALSE)) | J75: =IF(H75="",(""),IF(H75="DP",(J74+G75),IF(H75="DB",(J74-G75),IF(H75="TR",(J74-G75),IF(H75="CH",(J74-G75),IF(H75="SQ",(J74-G75),J74)))))) | K75: =IF(H75="",(""),IF(H75="SQ",(K74+G75),IF(H75="RD",(K74+G75),IF(H75="DI",(K74-G75),K74)))) | L75: =IF(H75="",(""),IF(H75="CC",(L74+G75),IF(H75="PC",(L74+G75),L74)))
F76: Saldo no mês | J76: =+J75 | K76: =+K75 | L76: =+L75
A213: 5
A214: 1

Sheet Fev
C1: Orçamento Doméstico
B2: Descritivo de Receitas e Despesas realizadas | F2: Fevereiro | H2: =+Instruções!$I$19 -> 2026 | J2: Movimentação do saldo no mês
H3: Meio de pagamento | J3: Saldo do mês anterior
B4: Grupo de conta | C4: Sub-grupo de conta | D4: Cod. | E4: Data | F4: Descritivo | G4: Valor R$ | J4: C.Corrente (+ / -) | K4: Dinheiro (+ / -) | L4: C. de Crédito (+)
A6: 1 | B6: =IF(IF(ISERROR(VLOOKUP(D6,Codigo!$B$4:$C$67,2,FALSE)),"",VLOOKUP(D6,Codigo!$B$4:$C$67,2,FALSE))=D6,"",VLOOKUP(D6,(Codigo!$B$4:$C$67),2,FALSE)) | C6: =IF(IF(ISERROR(VLOOKUP(D6,Codigo!$B$4:$C$67,2,FALSE)),"",VLOOKUP(D6,Codigo!$B$4:$C$67,2,FALSE))=D6,"",VLOOKUP(D6,(Codigo!$B$2:$D$67),3,FALSE)) | J6: =IF(H6="",(""),IF(H6="DP",(J5+G6),IF(H6="DB",(J5-G6),IF(H6="TR",(J5-G6),IF(H6="CH",(J5-G6),IF(H6="SQ",(J5-G6),J5)))))) | K6: =IF(H6="",(""),IF(H6="SQ",(K5+G6),IF(H6="RD",(K5+G6),IF(H6="DI",(K5-G6),K5)))) | L6: =IF(H6="",(""),IF(H6="CC",(L5+G6),IF(H6="PC",(L5+G6),L5)))
B7: =IF(IF(ISERROR(VLOOKUP(D7,Codigo!$B$4:$C$67,2,FALSE)),"",VLOOKUP(D7,Codigo!$B$4:$C$67,2,FALSE))=D7,"",VLOOKUP(D7,(Codigo!$B$4:$C$67),2,FALSE)) | C7: =IF(IF(ISERROR(VLOOKUP(D7,Codigo!$B$4:$C$67,2,FALSE)),"",VLOOKUP(D7,Codigo!$B$4:$C$67,2,FALSE))=D7,"",VLOOKUP(D7,(Codigo!$B$2:$D$67),3,FALSE)) | J7: =IF(H7="",(""),IF(H7="DP",(J6+G7),IF(H7="DB",(J6-G7),IF(H7="TR",(J6-G7),IF(H7="CH",(J6-G7),IF(H7="SQ",(J6-G7),J6)))))) | K7: =IF(H7="",(""),IF(H7="SQ",(K6+G7),IF(H7="RD",(K6+G7),IF(H7="DI",(K6-G7),K6)))) | L7: =IF(H7="",(""),IF(H7="CC",(L6+G7),IF(H7="PC",(L6+G7),L6)))
B8: =IF(IF(ISERROR(VLOOKUP(D8,Codigo!$B$4:$C$67,2,FALSE)),"",VLOOKUP(D8,Codigo!$B$4:$C$67,2,FALSE))=D8,"",VLOOKUP(D8,(Codigo!$B$4:$C$67),2,FALSE)) | C8: =IF(IF(ISERROR(VLOOKUP(D8,Codigo!$B$4:$C$67,2,FALSE)),"",VLOOKUP(D8,Codigo!$B$4:$C$67,2,FALSE))=D8,"",VLOOKUP(D8,(Codigo!$B$2:$D$67),3,FALSE)) | J8: =IF(H8="",(""),IF(H8="DP",(J7+G8),IF(H8="DB",(J7-G8),IF(H8="TR",(J7-G8),IF(H8="CH",(J7-G8),IF(H8="SQ",(J7-G8),J7)))))) | K8: =IF(H8="",(""),IF(H8="SQ",(K7+G8),IF(H8="RD",(K7+G8),IF(H8="DI",(K7-G8),K7)))) | L8: =IF(H8="",(""),IF(H8="CC",(L7+G8),IF(H8="PC",(L7+G8),L7)))
B9: =IF(IF(ISERROR(VLOOKUP(D9,Codigo!$B$4:$C$67,2,FALSE)),"",VLOOKUP(D9,Codigo!$B$4:$C$67,2,FALSE))=D9,"",VLOOKUP(D9,(Codigo!$B$4:$C$67),2,FALSE)) | C9: =IF(IF(ISERROR(VLOOKUP(D9,Codigo!$B$4:$C$67,2,FALSE)),"",VLOOKUP(D9,Codigo!$B$4:$C$67,2,FALSE))=D9,"",VLOOKUP(D9,(Codigo!$B$2:$D$67),3,FALSE)) | J9: =IF(H9="",(""),IF(H9="DP",(J8+G9),IF(H9="DB",(J8-G9),IF(H9="TR",(J8-G9),IF(H9="CH",(J8-G9),IF(H9="SQ",(J8-G9),J8)))))) | K9: =IF(H9="",(""),IF(H9="SQ",(K8+G9),IF(H9="RD",(K8+G9),IF(H9="DI",(K8-G9),K8)))) | L9: =IF(H9="",(""),IF(H9="CC",(L8+G9),IF(H9="PC",(L8+G9),L8)))
B10: =IF(IF(ISERROR(VLOOKUP(D10,Codigo!$B$4:$C$67,2,FALSE)),"",VLOOKUP(D10,Codigo!$B$4:$C$67,2,FALSE))=D10,"",VLOOKUP(D10,(Codigo!$B$4:$C$67),2,FALSE)) | C10: =IF(IF(ISERROR(VLOOKUP(D10,Codigo!$B$4:$C$67,2,FALSE)),"",VLOOKUP(D10,Codigo!$B$4:$C$67,2,FALSE))=D10,"",VLOOKUP(D10,(Codigo!$B$2:$D$67),3,FALSE)) | J10: =IF(H10="",(""),IF(H10="DP",(J9+G10),IF(H10="DB",(J9-G10),IF(H10="TR",(J9-G10),IF(H10="CH",(J9-G10),IF(H10="SQ",(J9-G10),J9)))))) | K10: =IF(H10="",(""),IF(H10="SQ",(K9+G10),IF(H10="RD",(K9+G10),IF(H10="DI",(K9-G10),K9)))) | L10: =IF(H10="",(""),IF(H10="CC",(L9+G10),IF(H10="PC",(L9+G10),L9)))
B11: =IF(IF(ISERROR(VLOOKUP(D11,Codigo!$B$4:$C$67,2,FALSE)),"",VLOOKUP(D11,Codigo!$B$4:$C$67,2,FALSE))=D11,"",VLOOKUP(D11,(Codigo!$B$4:$C$67),2,FALSE)) | C11: =IF(IF(ISERROR(VLOOKUP(D11,Codigo!$B$4:$C$67,2,FALSE)),"",VLOOKUP(D11,Codigo!$B$4:$C$67,2,FALSE))=D11,"",VLOOKUP(D11,(Codigo!$B$2:$D$67),3,FALSE)) | J11: =IF(H11="",(""),IF(H11="DP",(J10+G11),IF(H11="DB",(J10-G11),IF(H11="TR",(J10-G11),IF(H11="CH",(J10-G11),IF(H11="SQ",(J10-G11),J10)))))) | K11: =IF(H11="",(""),IF(H11="SQ",(K10+G11),IF(H11="RD",(K10+G11),IF(H11="DI",(K10-G11),K10)))) | L11: =IF(H11="",(""),IF(H11="CC",(L10+G11),IF(H11="PC",(L10+G11),L10)))
B12: =IF(IF(ISERROR(VLOOKUP(D12,Codigo!$B$4:$C$67,2,FALSE)),"",VLOOKUP(D12,Codigo!$B$4:$C$67,2,FALSE))=D12,"",VLOOKUP(D12,(Codigo!$B$4:$C$67),2,FALSE)) | C12: =IF(IF(ISERROR(VLOOKUP(D12,Codigo!$B$4:$C$67,2,FALSE)),"",VLOOKUP(D12,Codigo!$B$4:$C$67,2,FALSE))=D12,"",VLOOKUP(D12,(Codigo!$B$2:$D$67),3,FALSE)) | J12: =IF(H12="",(""),IF(H12="DP",(J11+G12),IF(H12="DB",(J11-G12),IF(H12="TR",(J11-G12),IF(H12="CH",(J11-G12),IF(H12="SQ",(J11-G12),J11)))))) | K12: =IF(H12="",(""),IF(H12="SQ",(K11+G12),IF(H12="RD",(K11+G12),IF(H12="DI",(K11-G12),K11)))) | L12: =IF(H12="",(""),IF(H12="CC",(L11+G12),IF(H12="PC",(L11+G12),L11)))
B13: =IF(IF(ISERROR(VLOOKUP(D13,Codigo!$B$4:$C$67,2,FALSE)),"",VLOOKUP(D13,Codigo!$B$4:$C$67,2,FALSE))=D13,"",VLOOKUP(D13,(Codigo!$B$4:$C$67),2,FALSE)) | C13: =IF(IF(ISERROR(VLOOKUP(D13,Codigo!$B$4:$C$67,2,FALSE)),"",VLOOKUP(D13,Codigo!$B$4:$C$67,2,FALSE))=D13,"",VLOOKUP(D13,(Codigo!$B$2:$D$67),3,FALSE)) | J13: =IF(H13="",(""),IF(H13="DP",(J12+G13),IF(H13="DB",(J12-G13),IF(H13="TR",(J12-G13),IF(H13="CH",(J12-G13),IF(H13="SQ",(J12-G13),J12)))))) | K13: =IF(H13="",(""),IF(H13="SQ",(K12+G13),IF(H13="RD",(K12+G13),IF(H13="DI",(K12-G13),K12)))) | L13: =IF(H13="",(""),IF(H13="CC",(L12+G13),IF(H13="PC",(L12+G13),L12)))
B14: =IF(IF(ISERROR(VLOOKUP(D14,Codigo!$B$4:$C$67,2,FALSE)),"",VLOOKUP(D14,Codigo!$B$4:$C$67,2,FALSE))=D14,"",VLOOKUP(D14,(Codigo!$B$4:$C$67),2,FALSE)) | C14: =IF(IF(ISERROR(VLOOKUP(D14,Codigo!$B$4:$C$67,2,FALSE)),"",VLOOKUP(D14,Codigo!$B$4:$C$67,2,FALSE))=D14,"",VLOOKUP(D14,(Codigo!$B$2:$D$67),3,FALSE)) | J14: =IF(H14="",(""),IF(H14="DP",(J13+G14),IF(H14="DB",(J13-G14),IF(H14="TR",(J13-G14),IF(H14="CH",(J13-G14),IF(H14="SQ",(J13-G14),J13)))))) | K14: =IF(H14="",(""),IF(H14="SQ",(K13+G14),IF(H14="RD",(K13+G14),IF(H14="DI",(K13-G14),K13)))) | L14: =IF(H14="",(""),IF(H14="CC",(L13+G14),IF(H14="PC",(L13+G14),L13)))
B15: =IF(IF(ISERROR(VLOOKUP(D15,Codigo!$B$4:$C$67,2,FALSE)),"",VLOOKUP(D15,Codigo!$B$4:$C$67,2,FALSE))=D15,"",VLOOKUP(D15,(Codigo!$B$4:$C$67),2,FALSE)) | C15: =IF(IF(ISERROR(VLOOKUP(D15,Codigo!$B$4:$C$67,2,FALSE)),"",VLOOKUP(D15,Codigo!$B$4:$C$67,2,FALSE))=D15,"",VLOOKUP(D15,(Codigo!$B$2:$D$67),3,FALSE)) | J15: =IF(H15="",(""),IF(H15="DP",(J14+G15),IF(H15="DB",(J14-G15),IF(H15="TR",(J14-G15),IF(H15="CH",(J14-G15),IF(H15="SQ",(J14-G15),J14)))))) | K15: =IF(H15="",(""),IF(H15="SQ",(K14+G15),IF(H15="RD",(K14+G15),IF(H15="DI",(K14-G15),K14)))) | L15: =IF(H15="",(""),IF(H15="CC",(L14+G15),IF(H15="PC",(L14+G15),L14)))
B16: =IF(IF(ISERROR(VLOOKUP(D16,Codigo!$B$4:$C$67,2,FALSE)),"",VLOOKUP(D16,Codigo!$B$4:$C$67,2,FALSE))=D16,"",VLOOKUP(D16,(Codigo!$B$4:$C$67),2,FALSE)) | C16: =IF(IF(ISERROR(VLOOKUP(D16,Codigo!$B$4:$C$67,2,FALSE)),"",VLOOKUP(D16,Codigo!$B$4:$C$67,2,FALSE))=D16,"",VLOOKUP(D16,(Codigo!$B$2:$D$67),3,FALSE)) | J16: =IF(H16="",(""),IF(H16="DP",(J15+G16),IF(H16="DB",(J15-G16),IF(H16="TR",(J15-G16),IF(H16="CH",(J15-G16),IF(H16="SQ",(J15-G16),J15)))))) | K16: =IF(H16="",(""),IF(H16="SQ",(K15+G16),IF(H16="RD",(K15+G16),IF(H16="DI",(K15-G16),K15)))) | L16: =IF(H16="",(""),IF(H16="CC",(L15+G16),IF(H16="PC",(L15+G16),L15)))
B17: =IF(IF(ISERROR(VLOOKUP(D17,Codigo!$B$4:$C$67,2,FALSE)),"",VLOOKUP(D17,Codigo!$B$4:$C$67,2,FALSE))=D17,"",VLOOKUP(D17,(Codigo!$B$4:$C$67),2,FALSE)) | C17: =IF(IF(ISERROR(VLOOKUP(D17,Codigo!$B$4:$C$67,2,FALSE)),"",VLOOKUP(D17,Codigo!$B$4:$C$67,2,FALSE))=D17,"",VLOOKUP(D17,(Codigo!$B$2:$D$67),3,FALSE)) | J17: =IF(H17="",(""),IF(H17="DP",(J16+G17),IF(H17="DB",(J16-G17),IF(H17="TR",(J16-G17),IF(H17="CH",(J16-G17),IF(H17="SQ",(J16-G17),J16)))))) | K17: =IF(H17="",(""),IF(H17="SQ",(K16+G17),IF(H17="RD",(K16+G17),IF(H17="DI",(K16-G17),K16)))) | L17: =IF(H17="",(""),IF(H17="CC",(L16+G17),IF(H17="PC",(L16+G17),L16)))
B18: =IF(IF(ISERROR(VLOOKUP(D18,Codigo!$B$4:$C$67,2,FALSE)),"",VLOOKUP(D18,Codigo!$B$4:$C$67,2,FALSE))=D18,"",VLOOKUP(D18,(Codigo!$B$4:$C$67),2,FALSE)) | C18: =IF(IF(ISERROR(VLOOKUP(D18,Codigo!$B$4:$C$67,2,FALSE)),"",VLOOKUP(D18,Codigo!$B$4:$C$67,2,FALSE))=D18,"",VLOOKUP(D18,(Codigo!$B$2:$D$67),3,FALSE)) | J18: =IF(H18="",(""),IF(H18="DP",(J17+G18),IF(H18="DB",(J17-G18),IF(H18="TR",(J17-G18),IF(H18="CH",(J17-G18),IF(H18="SQ",(J17-G18),J17)))))) | K18: =IF(H18="",(""),IF(H18="SQ",(K17+G18),IF(H18="RD",(K17+G18),IF(H18="DI",(K17-G18),K17)))) | L18: =IF(H18="",(""),IF(H18="CC",(L17+G18),IF(H18="PC",(L17+G18),L17)))
... B75: =IF(IF(ISERROR(VLOOKUP(D75,Codigo!$B$4:$C$67,2,FALSE)),"",VLOOKUP(D75,Codigo!$B$4:$C$67,2,FALSE))=D75,"",VLOOKUP(D75,(Codigo!$B$4:$C$67),2,FALSE)) | C75: =IF(IF(ISERROR(VLOOKUP(D75,Codigo!$B$4:$C$67,2,FALSE)),"",VLOOKUP(D75,Codigo!$B$4:$C$67,2,FALSE))=D75,"",VLOOKUP(D75,(Codigo!$B$2:$D$67),3,FALSE)) | J75: =IF(H75="",(""),IF(H75="DP",(J74+G75),IF(H75="DB",(J74-G75),IF(H75="TR",(J74-G75),IF(H75="CH",(J74-G75),IF(H75="SQ",(J74-G75),J74)))))) | K75: =IF(H75="",(""),IF(H75="SQ",(K74+G75),IF(H75="RD",(K74+G75),IF(H75="DI",(K74-G75),K74)))) | L75: =IF(H75="",(""),IF(H75="CC",(L74+G75),IF(H75="PC",(L74+G75),L74)))
F76: Saldo no mês | J76: =+J75 | K76: =+K75 | L76: =+L75
A213: 1
A214: 1

Sheet Mar
C1: Orçamento Doméstico
B2: Descritivo de Receitas e Despesas realizadas | F2: Março | H2: =+Instruções!$I$19 -> 2026 | J2: Movimentação do saldo no mês
H3: Meio de pagamento | J3: Saldo do mês anterior
B4: Grupo de conta | C4: Sub-grupo de conta | D4: Cod. | E4: Data | F4: Descritivo | G4: Valor R$ | J4: C.Corrente (+ / -) | K4: Dinheiro (+ / -) | L4: C. de Crédito (+)
A6: 1 | B6: =IF(IF(ISERROR(VLOOKUP(D6,Codigo!$B$4:$C$67,2,FALSE)),"",VLOOKUP(D6,Codigo!$B$4:$C$67,2,FALSE))=D6,"",VLOOKUP(D6,(Codigo!$B$4:$C$67),2,FALSE)) | C6: =IF(IF(ISERROR(VLOOKUP(D6,Codigo!$B$4:$C$67,2,FALSE)),"",VLOOKUP(D6,Codigo!$B$4:$C$67,2,FALSE))=D6,"",VLOOKUP(D6,(Codigo!$B$2:$D$67),3,FALSE)) | J6: =IF(H6="",(""),IF(H6="DP",(J5+G6),IF(H6="DB",(J5-G6),IF(H6="TR",(J5-G6),IF(H6="CH",(J5-G6),IF(H6="SQ",(J5-G6),J5)))))) | K6: =IF(H6="",(""),IF(H6="SQ",(K5+G6),IF(H6="RD",(K5+G6),IF(H6="DI",(K5-G6),K5)))) | L6: =IF(H6="",(""),IF(H6="CC",(L5+G6),IF(H6="PC",(L5+G6),L5)))
B7: =IF(IF(ISERROR(VLOOKUP(D7,Codigo!$B$4:$C$67,2,FALSE)),"",VLOOKUP(D7,Codigo!$B$4:$C$67,2,FALSE))=D7,"",VLOOKUP(D7,(Codigo!$B$4:$C$67),2,FALSE)) | C7: =IF(IF(ISERROR(VLOOKUP(D7,Codigo!$B$4:$C$67,2,FALSE)),"",VLOOKUP(D7,Codigo!$B$4:$C$67,2,FALSE))=D7,"",VLOOKUP(D7,(Codigo!$B$2:$D$67),3,FALSE)) | J7: =IF(H7="",(""),IF(H7="DP",(J6+G7),IF(H7="DB",(J6-G7),IF(H7="TR",(J6-G7),IF(H7="CH",(J6-G7),IF(H7="SQ",(J6-G7),J6)))))) | K7: =IF(H7="",(""),IF(H7="SQ",(K6+G7),IF(H7="RD",(K6+G7),IF(H7="DI",(K6-G7),K6)))) | L7: =IF(H7="",(""),IF(H7="CC",(L6+G7),IF(H7="PC",(L6+G7),L6)))
B8: =IF(IF(ISERROR(VLOOKUP(D8,Codigo!$B$4:$C$67,2,FALSE)),"",VLOOKUP(D8,Codigo!$B$4:$C$67,2,FALSE))=D8,"",VLOOKUP(D8,(Codigo!$B$4:$C$67),2,FALSE)) | C8: =IF(IF(ISERROR(VLOOKUP(D8,Codigo!$B$4:$C$67,2,FALSE)),"",VLOOKUP(D8,Codigo!$B$4:$C$67,2,FALSE))=D8,"",VLOOKUP(D8,(Codigo!$B$2:$D$67),3,FALSE)) | J8: =IF(H8="",(""),IF(H8="DP",(J7+G8),IF(H8="DB",(J7-G8),IF(H8="TR",(J7-G8),IF(H8="CH",(J7-G8),IF(H8="SQ",(J7-G8),J7)))))) | K8: =IF(H8="",(""),IF(H8="SQ",(K7+G8),IF(H8="RD",(K7+G8),IF(H8="DI",(K7-G8),K7)))) | L8: =IF(H8="",(""),IF(H8="CC",(L7+G8),IF(H8="PC",(L7+G8),L7)))
B9: =IF(IF(ISERROR(VLOOKUP(D9,Codigo!$B$4:$C$67,2,FALSE)),"",VLOOKUP(D9,Codigo!$B$4:$C$67,2,FALSE))=D9,"",VLOOKUP(D9,(Codigo!$B$4:$C$67),2,FALSE)) | C9: =IF(IF(ISERROR(VLOOKUP(D9,Codigo!$B$4:$C$67,2,FALSE)),"",VLOOKUP(D9,Codigo!$B$4:$C$67,2,FALSE))=D9,"",VLOOKUP(D9,(Codigo!$B$2:$D$67),3,FALSE)) | J9: =IF(H9="",(""),IF(H9="DP",(J8+G9),IF(H9="DB",(J8-G9),IF(H9="TR",(J8-G9),IF(H9="CH",(J8-G9),IF(H9="SQ",(J8-G9),J8)))))) | K9: =IF(H9="",(""),IF(H9="SQ",(K8+G9),IF(H9="RD",(K8+G9),IF(H9="DI",(K8-G9),K8)))) | L9: =IF(H9="",(""),IF(H9="CC",(L8+G9),IF(H9="PC",(L8+G9),L8)))
B10: =IF(IF(ISERROR(VLOOKUP(D10,Codigo!$B$4:$C$67,2,FALSE)),"",VLOOKUP(D10,Codigo!$B$4:$C$67,2,FALSE))=D10,"",VLOOKUP(D10,(Codigo!$B$4:$C$67),2,FALSE)) | C10: =IF(IF(ISERROR(VLOOKUP(D10,Codigo!$B$4:$C$67,2,FALSE)),"",VLOOKUP(D10,Codigo!$B$4:$C$67,2,FALSE))=D10,"",VLOOKUP(D10,(Codigo!$B$2:$D$67),3,FALSE)) | J10: =IF(H10="",(""),IF(H10="DP",(J9+G10),IF(H10="DB",(J9-G10),IF(H10="TR",(J9-G10),IF(H10="CH",(J9-G10),IF(H10="SQ",(J9-G10),J9)))))) | K10: =IF(H10="",(""),IF(H10="SQ",(K9+G10),IF(H10="RD",(K9+G10),IF(H10="DI",(K9-G10),K9)))) | L10: =IF(H10="",(""),IF(H10="CC",(L9+G10),IF(H10="PC",(L9+G10),L9)))
B11: =IF(IF(ISERROR(VLOOKUP(D11,Codigo!$B$4:$C$67,2,FALSE)),"",VLOOKUP(D11,Codigo!$B$4:$C$67,2,FALSE))=D11,"",VLOOKUP(D11,(Codigo!$B$4:$C$67),2,FALSE)) | C11: =IF(IF(ISERROR(VLOOKUP(D11,Codigo!$B$4:$C$67,2,FALSE)),"",VLOOKUP(D11,Codigo!$B$4:$C$67,2,FALSE))=D11,"",VLOOKUP(D11,(Codigo!$B$2:$D$67),3,FALSE)) | J11: =IF(H11="",(""),IF(H11="DP",(J10+G11),IF(H11="DB",(J10-G11),IF(H11="TR",(J10-G11),IF(H11="CH",(J10-G11),IF(H11="SQ",(J10-G11),J10)))))) | K11: =IF(H11="",(""),IF(H11="SQ",(K10+G11),IF(H11="RD",(K10+G11),IF(H11="DI",(K10-G11),K10)))) | L11: =IF(H11="",(""),IF(H11="CC",(L10+G11),IF(H11="PC",(L10+G11),L10)))
B12: =IF(IF(ISERROR(VLOOKUP(D12,Codigo!$B$4:$C$67,2,FALSE)),"",VLOOKUP(D12,Codigo!$B$4:$C$67,2,FALSE))=D12,"",VLOOKUP(D12,(Codigo!$B$4:$C$67),2,FALSE)) | C12: =IF(IF(ISERROR(VLOOKUP(D12,Codigo!$B$4:$C$67,2,FALSE)),"",VLOOKUP(D12,Codigo!$B$4:$C$67,2,FALSE))=D12,"",VLOOKUP(D12,(Codigo!$B$2:$D$67),3,FALSE)) | J12: =IF(H12="",(""),IF(H12="DP",(J11+G12),IF(H12="DB",(J11-G12),IF(H12="TR",(J11-G12),IF(H12="CH",(J11-G12),IF(H12="SQ",(J11-G12),J11)))))) | K12: =IF(H12="",(""),IF(H12="SQ",(K11+G12),IF(H12="RD",(K11+G12),IF(H12="DI",(K11-G12),K11)))) | L12: =IF(H12="",(""),IF(H12="CC",(L11+G12),IF(H12="PC",(L11+G12),L11)))
B13: =IF(IF(ISERROR(VLOOKUP(D13,Codigo!$B$4:$C$67,2,FALSE)),"",VLOOKUP(D13,Codigo!$B$4:$C$67,2,FALSE))=D13,"",VLOOKUP(D13,(Codigo!$B$4:$C$67),2,FALSE)) | C13: =IF(IF(ISERROR(VLOOKUP(D13,Codigo!$B$4:$C$67,2,FALSE)),"",VLOOKUP(D13,Codigo!$B$4:$C$67,2,FALSE))=D13,"",VLOOKUP(D13,(Codigo!$B$2:$D$67),3,FALSE)) | J13: =IF(H13="",(""),IF(H13="DP",(J12+G13),IF(H13="DB",(J12-G13),IF(H13="TR",(J12-G13),IF(H13="CH",(J12-G13),IF(H13="SQ",(J12-G13),J12)))))) | K13: =IF(H13="",(""),IF(H13="SQ",(K12+G13),IF(H13="RD",(K12+G13),IF(H13="DI",(K12-G13),K12)))) | L13: =IF(H13="",(""),IF(H13="CC",(L12+G13),IF(H13="PC",(L12+G13),L12)))
B14: =IF(IF(ISERROR(VLOOKUP(D14,Codigo!$B$4:$C$67,2,FALSE)),"",VLOOKUP(D14,Codigo!$B$4:$C$67,2,FALSE))=D14,"",VLOOKUP(D14,(Codigo!$B$4:$C$67),2,FALSE)) | C14: =IF(IF(ISERROR(VLOOKUP(D14,Codigo!$B$4:$C$67,2,FALSE)),"",VLOOKUP(D14,Codigo!$B$4:$C$67,2,FALSE))=D14,"",VLOOKUP(D14,(Codigo!$B$2:$D$67),3,FALSE)) | J14: =IF(H14="",(""),IF(H14="DP",(J13+G14),IF(H14="DB",(J13-G14),IF(H14="TR",(J13-G14),IF(H14="CH",(J13-G14),IF(H14="SQ",(J13-G14),J13)))))) | K14: =IF(H14="",(""),IF(H14="SQ",(K13+G14),IF(H14="RD",(K13+G14),IF(H14="DI",(K13-G14),K13)))) | L14: =IF(H14="",(""),IF(H14="CC",(L13+G14),IF(H14="PC",(L13+G14),L13)))
B15: =IF(IF(ISERROR(VLOOKUP(D15,Codigo!$B$4:$C$67,2,FALSE)),"",VLOOKUP(D15,Codigo!$B$4:$C$67,2,FALSE))=D15,"",VLOOKUP(D15,(Codigo!$B$4:$C$67),2,FALSE)) | C15: =IF(IF(ISERROR(VLOOKUP(D15,Codigo!$B$4:$C$67,2,FALSE)),"",VLOOKUP(D15,Codigo!$B$4:$C$67,2,FALSE))=D15,"",VLOOKUP(D15,(Codigo!$B$2:$D$67),3,FALSE)) | J15: =IF(H15="",(""),IF(H15="DP",(J14+G15),IF(H15="DB",(J14-G15),IF(H15="TR",(J14-G15),IF(H15="CH",(J14-G15),IF(H15="SQ",(J14-G15),J14)))))) | K15: =IF(H15="",(""),IF(H15="SQ",(K14+G15),IF(H15="RD",(K14+G15),IF(H15="DI",(K14-G15),K14)))) | L15: =IF(H15="",(""),IF(H15="CC",(L14+G15),IF(H15="PC",(L14+G15),L14)))
B16: =IF(IF(ISERROR(VLOOKUP(D16,Codigo!$B$4:$C$67,2,FALSE)),"",VLOOKUP(D16,Codigo!$B$4:$C$67,2,FALSE))=D16,"",VLOOKUP(D16,(Codigo!$B$4:$C$67),2,FALSE)) | C16: =IF(IF(ISERROR(VLOOKUP(D16,Codigo!$B$4:$C$67,2,FALSE)),"",VLOOKUP(D16,Codigo!$B$4:$C$67,2,FALSE))=D16,"",VLOOKUP(D16,(Codigo!$B$2:$D$67),3,FALSE)) | J16: =IF(H16="",(""),IF(H16="DP",(J15+G16),IF(H16="DB",(J15-G16),IF(H16="TR",(J15-G16),IF(H16="CH",(J15-G16),IF(H16="SQ",(J15-G16),J15)))))) | K16: =IF(H16="",(""),IF(H16="SQ",(K15+G16),IF(H16="RD",(K15+G16),IF(H16="DI",(K15-G16),K15)))) | L16: =IF(H16="",(""),IF(H16="CC",(L15+G16),IF(H16="PC",(L15+G16),L15)))
B17: =IF(IF(ISERROR(VLOOKUP(D17,Codigo!$B$4:$C$67,2,FALSE)),"",VLOOKUP(D17,Codigo!$B$4:$C$67,2,FALSE))=D17,"",VLOOKUP(D17,(Codigo!$B$4:$C$67),2,FALSE)) | C17: =IF(IF(ISERROR(VLOOKUP(D17,Codigo!$B$4:$C$67,2,FALSE)),"",VLOOKUP(D17,Codigo!$B$4:$C$67,2,FALSE))=D17,"",VLOOKUP(D17,(Codigo!$B$2:$D$67),3,FALSE)) | J17: =IF(H17="",(""),IF(H17="DP",(J16+G17),IF(H17="DB",(J16-G17),IF(H17="TR",(J16-G17),IF(H17="CH",(J16-G17),IF(H17="SQ",(J16-G17),J16)))))) | K17: =IF(H17="",(""),IF(H17="SQ",(K16+G17),IF(H17="RD",(K16+G17),IF(H17="DI",(K16-G17),K16)))) | L17: =IF(H17="",(""),IF(H17="CC",(L16+G17),IF(H17="PC",(L16+G17),L16)))
B18: =IF(IF(ISERROR(VLOOKUP(D18,Codigo!$B$4:$C$67,2,FALSE)),"",VLOOKUP(D18,Codigo!$B$4:$C$67,2,FALSE))=D18,"",VLOOKUP(D18,(Codigo!$B$4:$C$67),2,FALSE)) | C18: =IF(IF(ISERROR(VLOOKUP(D18,Codigo!$B$4:$C$67,2,FALSE)),"",VLOOKUP(D18,Codigo!$B$4:$C$67,2,FALSE))=D18,"",VLOOKUP(D18,(Codigo!$B$2:$D$67),3,FALSE)) | J18: =IF(H18="",(""),IF(H18="DP",(J17+G18),IF(H18="DB",(J17-G18),IF(H18="TR",(J17-G18),IF(H18="CH",(J17-G18),IF(H18="SQ",(J17-G18),J17)))))) | K18: =IF(H18="",(""),IF(H18="SQ",(K17+G18),IF(H18="RD",(K17+G18),IF(H18="DI",(K17-G18),K17)))) | L18: =IF(H18="",(""),IF(H18="CC",(L17+G18),IF(H18="PC",(L17+G18),L17)))
... B75: =IF(IF(ISERROR(VLOOKUP(D75,Codigo!$B$4:$C$67,2,FALSE)),"",VLOOKUP(D75,Codigo!$B$4:$C$67,2,FALSE))=D75,"",VLOOKUP(D75,(Codigo!$B$4:$C$67),2,FALSE)) | C75: =IF(IF(ISERROR(VLOOKUP(D75,Codigo!$B$4:$C$67,2,FALSE)),"",VLOOKUP(D75,Codigo!$B$4:$C$67,2,FALSE))=D75,"",VLOOKUP(D75,(Codigo!$B$2:$D$67),3,FALSE)) | J75: =IF(H75="",(""),IF(H75="DP",(J74+G75),IF(H75="DB",(J74-G75),IF(H75="TR",(J74-G75),IF(H75="CH",(J74-G75),IF(H75="SQ",(J74-G75),J74)))))) | K75: =IF(H75="",(""),IF(H75="SQ",(K74+G75),IF(H75="RD",(K74+G75),IF(H75="DI",(K74-G75),K74)))) | L75: =IF(H75="",(""),IF(H75="CC",(L74+G75),IF(H75="PC",(L74+G75),L74)))
F76: Saldo no mês | J76: =+J75 | K76: =+K75 | L76: =+L75
A213: 1
A214: 1

Sheet Abr
C1: Orçamento Doméstico
B2: Descritivo de Receitas e Despesas realizadas | F2: Abril | H2: =+Instruções!$I$19 -> 2026 | J2: Movimentação do saldo no mês
H3: Meio de pagamento | J3: Saldo do mês anterior
B4: Grupo de conta | C4: Sub-grupo de conta | D4: Cod. | E4: Data | F4: Descritivo | G4: Valor R$ | J4: C.Corrente (+ / -) | K4: Dinheiro (+ / -) | L4: C. de Crédito (+)
A6: 1 | B6: =IF(IF(ISERROR(VLOOKUP(D6,Codigo!$B$4:$C$67,2,FALSE)),"",VLOOKUP(D6,Codigo!$B$4:$C$67,2,FALSE))=D6,"",VLOOKUP(D6,(Codigo!$B$4:$C$67),2,FALSE)) | C6: =IF(IF(ISERROR(VLOOKUP(D6,Codigo!$B$4:$C$67,2,FALSE)),"",VLOOKUP(D6,Codigo!$B$4:$C$67,2,FALSE))=D6,"",VLOOKUP(D6,(Codigo!$B$2:$D$67),3,FALSE)) | J6: =IF(H6="",(""),IF(H6="DP",(J5+G6),IF(H6="DB",(J5-G6),IF(H6="TR",(J5-G6),IF(H6="CH",(J5-G6),IF(H6="SQ",(J5-G6),J5)))))) | K6: =IF(H6="",(""),IF(H6="SQ",(K5+G6),IF(H6="RD",(K5+G6),IF(H6="DI",(K5-G6),K5)))) | L6: =IF(H6="",(""),IF(H6="CC",(L5+G6),IF(H6="PC",(L5+G6),L5)))
B7: =IF(IF(ISERROR(VLOOKUP(D7,Codigo!$B$4:$C$67,2,FALSE)),"",VLOOKUP(D7,Codigo!$B$4:$C$67,2,FALSE))=D7,"",VLOOKUP(D7,(Codigo!$B$4:$C$67),2,FALSE)) | C7: =IF(IF(ISERROR(VLOOKUP(D7,Codigo!$B$4:$C$67,2,FALSE)),"",VLOOKUP(D7,Codigo!$B$4:$C$67,2,FALSE))=D7,"",VLOOKUP(D7,(Codigo!$B$2:$D$67),3,FALSE)) | J7: =IF(H7="",(""),IF(H7="DP",(J6+G7),IF(H7="DB",(J6-G7),IF(H7="TR",(J6-G7),IF(H7="CH",(J6-G7),IF(H7="SQ",(J6-G7),J6)))))) | K7: =IF(H7="",(""),IF(H7="SQ",(K6+G7),IF(H7="RD",(K6+G7),IF(H7="DI",(K6-G7),K6)))) | L7: =IF(H7="",(""),IF(H7="CC",(L6+G7),IF(H7="PC",(L6+G7),L6)))
B8: =IF(IF(ISERROR(VLOOKUP(D8,Codigo!$B$4:$C$67,2,FALSE)),"",VLOOKUP(D8,Codigo!$B$4:$C$67,2,FALSE))=D8,"",VLOOKUP(D8,(Codigo!$B$4:$C$67),2,FALSE)) | C8: =IF(IF(ISERROR(VLOOKUP(D8,Codigo!$B$4:$C$67,2,FALSE)),"",VLOOKUP(D8,Codigo!$B$4:$C$67,2,FALSE))=D8,"",VLOOKUP(D8,(Codigo!$B$2:$D$67),3,FALSE)) | J8: =IF(H8="",(""),IF(H8="DP",(J7+G8),IF(H8="DB",(J7-G8),IF(H8="TR",(J7-G8),IF(H8="CH",(J7-G8),IF(H8="SQ",(J7-G8),J7)))))) | K8: =IF(H8="",(""),IF(H8="SQ",(K7+G8),IF(H8="RD",(K7+G8),IF(H8="DI",(K7-G8),K7)))) | L8: =IF(H8="",(""),IF(H8="CC",(L7+G8),IF(H8="PC",(L7+G8),L7)))
B9: =IF(IF(ISERROR(VLOOKUP(D9,Codigo!$B$4:$C$67,2,FALSE)),"",VLOOKUP(D9,Codigo!$B$4:$C$67,2,FALSE))=D9,"",VLOOKUP(D9,(Codigo!$B$4:$C$67),2,FALSE)) | C9: =IF(IF(ISERROR(VLOOKUP(D9,Codigo!$B$4:$C$67,2,FALSE)),"",VLOOKUP(D9,Codigo!$B$4:$C$67,2,FALSE))=D9,"",VLOOKUP(D9,(Codigo!$B$2:$D$67),3,FALSE)) | J9: =IF(H9="",(""),IF(H9="DP",(J8+G9),IF(H9="DB",(J8-G9),IF(H9="TR",(J8-G9),IF(H9="CH",(J8-G9),IF(H9="SQ",(J8-G9),J8)))))) | K9: =IF(H9="",(""),IF(H9="SQ",(K8+G9),IF(H9="RD",(K8+G9),IF(H9="DI",(K8-G9),K8)))) | L9: =IF(H9="",(""),IF(H9="CC",(L8+G9),IF(H9="PC",(L8+G9),L8)))
B10: =IF(IF(ISERROR(VLOOKUP(D10,Codigo!$B$4:$C$67,2,FALSE)),"",VLOOKUP(D10,Codigo!$B$4:$C$67,2,FALSE))=D10,"",VLOOKUP(D10,(Codigo!$B$4:$C$67),2,FALSE)) | C10: =IF(IF(ISERROR(VLOOKUP(D10,Codigo!$B$4:$C$67,2,FALSE)),"",VLOOKUP(D10,Codigo!$B$4:$C$67,2,FALSE))=D10,"",VLOOKUP(D10,(Codigo!$B$2:$D$67),3,FALSE)) | J10: =IF(H10="",(""),IF(H10="DP",(J9+G10),IF(H10="DB",(J9-G10),IF(H10="TR",(J9-G10),IF(H10="CH",(J9-G10),IF(H10="SQ",(J9-G10),J9)))))) | K10: =IF(H10="",(""),IF(H10="SQ",(K9+G10),IF(H10="RD",(K9+G10),IF(H10="DI",(K9-G10),K9)))) | L10: =IF(H10="",(""),IF(H10="CC",(L9+G10),IF(H10="PC",(L9+G10),L9)))
B11: =IF(IF(ISERROR(VLOOKUP(D11,Codigo!$B$4:$C$67,2,FALSE)),"",VLOOKUP(D11,Codigo!$B$4:$C$67,2,FALSE))=D11,"",VLOOKUP(D11,(Codigo!$B$4:$C$67),2,FALSE)) | C11: =IF(IF(ISERROR(VLOOKUP(D11,Codigo!$B$4:$C$67,2,FALSE)),"",VLOOKUP(D11,Codigo!$B$4:$C$67,2,FALSE))=D11,"",VLOOKUP(D11,(Codigo!$B$2:$D$67),3,FALSE)) | J11: =IF(H11="",(""),IF(H11="DP",(J10+G11),IF(H11="DB",(J10-G11),IF(H11="TR",(J10-G11),IF(H11="CH",(J10-G11),IF(H11="SQ",(J10-G11),J10)))))) | K11: =IF(H11="",(""),IF(H11="SQ",(K10+G11),IF(H11="RD",(K10+G11),IF(H11="DI",(K10-G11),K10)))) | L11: =IF(H11="",(""),IF(H11="CC",(L10+G11),IF(H11="PC",(L10+G11),L10)))
B12: =IF(IF(ISERROR(VLOOKUP(D12,Codigo!$B$4:$C$67,2,FALSE)),"",VLOOKUP(D12,Codigo!$B$4:$C$67,2,FALSE))=D12,"",VLOOKUP(D12,(Codigo!$B$4:$C$67),2,FALSE)) | C12: =IF(IF(ISERROR(VLOOKUP(D12,Codigo!$B$4:$C$67,2,FALSE)),"",VLOOKUP(D12,Codigo!$B$4:$C$67,2,FALSE))=D12,"",VLOOKUP(D12,(Codigo!$B$2:$D$67),3,FALSE)) | J12: =IF(H12="",(""),IF(H12="DP",(J11+G12),IF(H12="DB",(J11-G12),IF(H12="TR",(J11-G12),IF(H12="CH",(J11-G12),IF(H12="SQ",(J11-G12),J11)))))) | K12: =IF(H12="",(""),IF(H12="SQ",(K11+G12),IF(H12="RD",(K11+G12),IF(H12="DI",(K11-G12),K11)))) | L12: =IF(H12="",(""),IF(H12="CC",(L11+G12),IF(H12="PC",(L11+G12),L11)))
B13: =IF(IF(ISERROR(VLOOKUP(D13,Codigo!$B$4:$C$67,2,FALSE)),"",VLOOKUP(D13,Codigo!$B$4:$C$67,2,FALSE))=D13,"",VLOOKUP(D13,(Codigo!$B$4:$C$67),2,FALSE)) | C13: =IF(IF(ISERROR(VLOOKUP(D13,Codigo!$B$4:$C$67,2,FALSE)),"",VLOOKUP(D13,Codigo!$B$4:$C$67,2,FALSE))=D13,"",VLOOKUP(D13,(Codigo!$B$2:$D$67),3,FALSE)) | J13: =IF(H13="",(""),IF(H13="DP",(J12+G13),IF(H13="DB",(J12-G13),IF(H13="TR",(J12-G13),IF(H13="CH",(J12-G13),IF(H13="SQ",(J12-G13),J12)))))) | K13: =IF(H13="",(""),IF(H13="SQ",(K12+G13),IF(H13="RD",(K12+G13),IF(H13="DI",(K12-G13),K12)))) | L13: =IF(H13="",(""),IF(H13="CC",(L12+G13),IF(H13="PC",(L12+G13),L12)))
B14: =IF(IF(ISERROR(VLOOKUP(D14,Codigo!$B$4:$C$67,2,FALSE)),"",VLOOKUP(D14,Codigo!$B$4:$C$67,2,FALSE))=D14,"",VLOOKUP(D14,(Codigo!$B$4:$C$67),2,FALSE)) | C14: =IF(IF(ISERROR(VLOOKUP(D14,Codigo!$B$4:$C$67,2,FALSE)),"",VLOOKUP(D14,Codigo!$B$4:$C$67,2,FALSE))=D14,"",VLOOKUP(D14,(Codigo!$B$2:$D$67),3,FALSE)) | J14: =IF(H14="",(""),IF(H14="DP",(J13+G14),IF(H14="DB",(J13-G14),IF(H14="TR",(J13-G14),IF(H14="CH",(J13-G14),IF(H14="SQ",(J13-G14),J13)))))) | K14: =IF(H14="",(""),IF(H14="SQ",(K13+G14),IF(H14="RD",(K13+G14),IF(H14="DI",(K13-G14),K13)))) | L14: =IF(H14="",(""),IF(H14="CC",(L13+G14),IF(H14="PC",(L13+G14),L13)))
B15: =IF(IF(ISERROR(VLOOKUP(D15,Codigo!$B$4:$C$67,2,FALSE)),"",VLOOKUP(D15,Codigo!$B$4:$C$67,2,FALSE))=D15,"",VLOOKUP(D15,(Codigo!$B$4:$C$67),2,FALSE)) | C15: =IF(IF(ISERROR(VLOOKUP(D15,Codigo!$B$4:$C$67,2,FALSE)),"",VLOOKUP(D15,Codigo!$B$4:$C$67,2,FALSE))=D15,"",VLOOKUP(D15,(Codigo!$B$2:$D$67),3,FALSE)) | J15: =IF(H15="",(""),IF(H15="DP",(J14+G15),IF(H15="DB",(J14-G15),IF(H15="TR",(J14-G15),IF(H15="CH",(J14-G15),IF(H15="SQ",(J14-G15),J14)))))) | K15: =IF(H15="",(""),IF(H15="SQ",(K14+G15),IF(H15="RD",(K14+G15),IF(H15="DI",(K14-G15),K14)))) | L15: =IF(H15="",(""),IF(H15="CC",(L14+G15),IF(H15="PC",(L14+G15),L14)))
B16: =IF(IF(ISERROR(VLOOKUP(D16,Codigo!$B$4:$C$67,2,FALSE)),"",VLOOKUP(D16,Codigo!$B$4:$C$67,2,FALSE))=D16,"",VLOOKUP(D16,(Codigo!$B$4:$C$67),2,FALSE)) | C16: =IF(IF(ISERROR(VLOOKUP(D16,Codigo!$B$4:$C$67,2,FALSE)),"",VLOOKUP(D16,Codigo!$B$4:$C$67,2,FALSE))=D16,"",VLOOKUP(D16,(Codigo!$B$2:$D$67),3,FALSE)) | J16: =IF(H16="",(""),IF(H16="DP",(J15+G16),IF(H16="DB",(J15-G16),IF(H16="TR",(J15-G16),IF(H16="CH",(J15-G16),IF(H16="SQ",(J15-G16),J15)))))) | K16: =IF(H16="",(""),IF(H16="SQ",(K15+G16),IF(H16="RD",(K15+G16),IF(H16="DI",(K15-G16),K15)))) | L16: =IF(H16="",(""),IF(H16="CC",(L15+G16),IF(H16="PC",(L15+G16),L15)))
B17: =IF(IF(ISERROR(VLOOKUP(D17,Codigo!$B$4:$C$67,2,FALSE)),"",VLOOKUP(D17,Codigo!$B$4:$C$67,2,FALSE))=D17,"",VLOOKUP(D17,(Codigo!$B$4:$C$67),2,FALSE)) | C17: =IF(IF(ISERROR(VLOOKUP(D17,Codigo!$B$4:$C$67,2,FALSE)),"",VLOOKUP(D17,Codigo!$B$4:$C$67,2,FALSE))=D17,"",VLOOKUP(D17,(Codigo!$B$2:$D$67),3,FALSE)) | J17: =IF(H17="",(""),IF(H17="DP",(J16+G17),IF(H17="DB",(J16-G17),IF(H17="TR",(J16-G17),IF(H17="CH",(J16-G17),IF(H17="SQ",(J16-G17),J16)))))) | K17: =IF(H17="",(""),IF(H17="SQ",(K16+G17),IF(H17="RD",(K16+G17),IF(H17="DI",(K16-G17),K16)))) | L17: =IF(H17="",(""),IF(H17="CC",(L16+G17),IF(H17="PC",(L16+G17),L16)))
B18: =IF(IF(ISERROR(VLOOKUP(D18,Codigo!$B$4:$C$67,2,FALSE)),"",VLOOKUP(D18,Codigo!$B$4:$C$67,2,FALSE))=D18,"",VLOOKUP(D18,(Codigo!$B$4:$C$67),2,FALSE)) | C18: =IF(IF(ISERROR(VLOOKUP(D18,Codigo!$B$4:$C$67,2,FALSE)),"",VLOOKUP(D18,Codigo!$B$4:$C$67,2,FALSE))=D18,"",VLOOKUP(D18,(Codigo!$B$2:$D$67),3,FALSE)) | J18: =IF(H18="",(""),IF(H18="DP",(J17+G18),IF(H18="DB",(J17-G18),IF(H18="TR",(J17-G18),IF(H18="CH",(J17-G18),IF(H18="SQ",(J17-G18),J17)))))) | K18: =IF(H18="",(""),IF(H18="SQ",(K17+G18),IF(H18="RD",(K17+G18),IF(H18="DI",(K17-G18),K17)))) | L18: =IF(H18="",(""),IF(H18="CC",(L17+G18),IF(H18="PC",(L17+G18),L17)))
... B75: =IF(IF(ISERROR(VLOOKUP(D75,Codigo!$B$4:$C$67,2,FALSE)),"",VLOOKUP(D75,Codigo!$B$4:$C$67,2,FALSE))=D75,"",VLOOKUP(D75,(Codigo!$B$4:$C$67),2,FALSE)) | C75: =IF(IF(ISERROR(VLOOKUP(D75,Codigo!$B$4:$C$67,2,FALSE)),"",VLOOKUP(D75,Codigo!$B$4:$C$67,2,FALSE))=D75,"",VLOOKUP(D75,(Codigo!$B$2:$D$67),3,FALSE)) | J75: =IF(H75="",(""),IF(H75="DP",(J74+G75),IF(H75="DB",(J74-G75),IF(H75="TR",(J74-G75),IF(H75="CH",(J74-G75),IF(H75="SQ",(J74-G75),J74)))))) | K75: =IF(H75="",(""),IF(H75="SQ",(K74+G75),IF(H75="RD",(K74+G75),IF(H75="DI",(K74-G75),K74)))) | L75: =IF(H75="",(""),IF(H75="CC",(L74+G75),IF(H75="PC",(L74+G75),L74)))
F76: Saldo no mês | J76: =+J75 | K76: =+K75 | L76: =+L75
A213: 1
A214: 1

Sheet Mai
C1: Orçamento Doméstico
B2: Descritivo de Receitas e Despesas realizadas | F2: Maio | H2: =+Instruções!$I$19 -> 2026 | J2: Movimentação do saldo no mês
H3: Meio de pagamento | J3: Saldo do mês anterior
B4: Grupo de conta | C4: Sub-grupo de conta | D4: Cod. | E4: Data | F4: Descritivo | G4: Valor R$ | J4: C.Corrente (+ / -) | K4: Dinheiro (+ / -) | L4: C. de Crédito (+)
A6: 1 | B6: =IF(IF(ISERROR(VLOOKUP(D6,Codigo!$B$4:$C$67,2,FALSE)),"",VLOOKUP(D6,Codigo!$B$4:$C$67,2,FALSE))=D6,"",VLOOKUP(D6,(Codigo!$B$4:$C$67),2,FALSE)) | C6: =IF(IF(ISERROR(VLOOKUP(D6,Codigo!$B$4:$C$67,2,FALSE)),"",VLOOKUP(D6,Codigo!$B$4:$C$67,2,FALSE))=D6,"",VLOOKUP(D6,(Codigo!$B$2:$D$67),3,FALSE)) | J6: =IF(H6="",(""),IF(H6="DP",(J5+G6),IF(H6="DB",(J5-G6),IF(H6="TR",(J5-G6),IF(H6="CH",(J5-G6),IF(H6="SQ",(J5-G6),J5)))))) | K6: =IF(H6="",(""),IF(H6="SQ",(K5+G6),IF(H6="RD",(K5+G6),IF(H6="DI",(K5-G6),K5)))) | L6: =IF(H6="",(""),IF(H6="CC",(L5+G6),IF(H6="PC",(L5+G6),L5)))
B7: =IF(IF(ISERROR(VLOOKUP(D7,Codigo!$B$4:$C$67,2,FALSE)),"",VLOOKUP(D7,Codigo!$B$4:$C$67,2,FALSE))=D7,"",VLOOKUP(D7,(Codigo!$B$4:$C$67),2,FALSE)) | C7: =IF(IF(ISERROR(VLOOKUP(D7,Codigo!$B$4:$C$67,2,FALSE)),"",VLOOKUP(D7,Codigo!$B$4:$C$67,2,FALSE))=D7,"",VLOOKUP(D7,(Codigo!$B$2:$D$67),3,FALSE)) | J7: =IF(H7="",(""),IF(H7="DP",(J6+G7),IF(H7="DB",(J6-G7),IF(H7="TR",(J6-G7),IF(H7="CH",(J6-G7),IF(H7="SQ",(J6-G7),J6)))))) | K7: =IF(H7="",(""),IF(H7="SQ",(K6+G7),IF(H7="RD",(K6+G7),IF(H7="DI",(K6-G7),K6)))) | L7: =IF(H7="",(""),IF(H7="CC",(L6+G7),IF(H7="PC",(L6+G7),L6)))
B8: =IF(IF(ISERROR(VLOOKUP(D8,Codigo!$B$4:$C$67,2,FALSE)),"",VLOOKUP(D8,Codigo!$B$4:$C$67,2,FALSE))=D8,"",VLOOKUP(D8,(Codigo!$B$4:$C$67),2,FALSE)) | C8: =IF(IF(ISERROR(VLOOKUP(D8,Codigo!$B$4:$C$67,2,FALSE)),"",VLOOKUP(D8,Codigo!$B$4:$C$67,2,FALSE))=D8,"",VLOOKUP(D8,(Codigo!$B$2:$D$67),3,FALSE)) | J8: =IF(H8="",(""),IF(H8="DP",(J7+G8),IF(H8="DB",(J7-G8),IF(H8="TR",(J7-G8),IF(H8="CH",(J7-G8),IF(H8="SQ",(J7-G8),J7)))))) | K8: =IF(H8="",(""),IF(H8="SQ",(K7+G8),IF(H8="RD",(K7+G8),IF(H8="DI",(K7-G8),K7)))) | L8: =IF(H8="",(""),IF(H8="CC",(L7+G8),IF(H8="PC",(L7+G8),L7)))
B9: =IF(IF(ISERROR(VLOOKUP(D9,Codigo!$B$4:$C$67,2,FALSE)),"",VLOOKUP(D9,Codigo!$B$4:$C$67,2,FALSE))=D9,"",VLOOKUP(D9,(Codigo!$B$4:$C$67),2,FALSE)) | C9: =IF(IF(ISERROR(VLOOKUP(D9,Codigo!$B$4:$C$67,2,FALSE)),"",VLOOKUP(D9,Codigo!$B$4:$C$67,2,FALSE))=D9,"",VLOOKUP(D9,(Codigo!$B$2:$D$67),3,FALSE)) | J9: =IF(H9="",(""),IF(H9="DP",(J8+G9),IF(H9="DB",(J8-G9),IF(H9="TR",(J8-G9),IF(H9="CH",(J8-G9),IF(H9="SQ",(J8-G9),J8)))))) | K9: =IF(H9="",(""),IF(H9="SQ",(K8+G9),IF(H9="RD",(K8+G9),IF(H9="DI",(K8-G9),K8)))) | L9: =IF(H9="",(""),IF(H9="CC",(L8+G9),IF(H9="PC",(L8+G9),L8)))
B10: =IF(IF(ISERROR(VLOOKUP(D10,Codigo!$B$4:$C$67,2,FALSE)),"",VLOOKUP(D10,Codigo!$B$4:$C$67,2,FALSE))=D10,"",VLOOKUP(D10,(Codigo!$B$4:$C$67),2,FALSE)) | C10: =IF(IF(ISERROR(VLOOKUP(D10,Codigo!$B$4:$C$67,2,FALSE)),"",VLOOKUP(D10,Codigo!$B$4:$C$67,2,FALSE))=D10,"",VLOOKUP(D10,(Codigo!$B$2:$D$67),3,FALSE)) | J10: =IF(H10="",(""),IF(H10="DP",(J9+G10),IF(H10="DB",(J9-G10),IF(H10="TR",(J9-G10),IF(H10="CH",(J9-G10),IF(H10="SQ",(J9-G10),J9)))))) | K10: =IF(H10="",(""),IF(H10="SQ",(K9+G10),IF(H10="RD",(K9+G10),IF(H10="DI",(K9-G10),K9)))) | L10: =IF(H10="",(""),IF(H10="CC",(L9+G10),IF(H10="PC",(L9+G10),L9)))
B11: =IF(IF(ISERROR(VLOOKUP(D11,Codigo!$B$4:$C$67,2,FALSE)),"",VLOOKUP(D11,Codigo!$B$4:$C$67,2,FALSE))=D11,"",VLOOKUP(D11,(Codigo!$B$4:$C$67),2,FALSE)) | C11: =IF(IF(ISERROR(VLOOKUP(D11,Codigo!$B$4:$C$67,2,FALSE)),"",VLOOKUP(D11,Codigo!$B$4:$C$67,2,FALSE))=D11,"",VLOOKUP(D11,(Codigo!$B$2:$D$67),3,FALSE)) | J11: =IF(H11="",(""),IF(H11="DP",(J10+G11),IF(H11="DB",(J10-G11),IF(H11="TR",(J10-G11),IF(H11="CH",(J10-G11),IF(H11="SQ",(J10-G11),J10)))))) | K11: =IF(H11="",(""),IF(H11="SQ",(K10+G11),IF(H11="RD",(K10+G11),IF(H11="DI",(K10-G11),K10)))) | L11: =IF(H11="",(""),IF(H11="CC",(L10+G11),IF(H11="PC",(L10+G11),L10)))
B12: =IF(IF(ISERROR(VLOOKUP(D12,Codigo!$B$4:$C$67,2,FALSE)),"",VLOOKUP(D12,Codigo!$B$4:$C$67,2,FALSE))=D12,"",VLOOKUP(D12,(Codigo!$B$4:$C$67),2,FALSE)) | C12: =IF(IF(ISERROR(VLOOKUP(D12,Codigo!$B$4:$C$67,2,FALSE)),"",VLOOKUP(D12,Codigo!$B$4:$C$67,2,FALSE))=D12,"",VLOOKUP(D12,(Codigo!$B$2:$D$67),3,FALSE)) | J12: =IF(H12="",(""),IF(H12="DP",(J11+G12),IF(H12="DB",(J11-G12),IF(H12="TR",(J11-G12),IF(H12="CH",(J11-G12),IF(H12="SQ",(J11-G12),J11)))))) | K12: =IF(H12="",(""),IF(H12="SQ",(K11+G12),IF(H12="RD",(K11+G12),IF(H12="DI",(K11-G12),K11)))) | L12: =IF(H12="",(""),IF(H12="CC",(L11+G12),IF(H12="PC",(L11+G12),L11)))
B13: =IF(IF(ISERROR(VLOOKUP(D13,Codigo!$B$4:$C$67,2,FALSE)),"",VLOOKUP(D13,Codigo!$B$4:$C$67,2,FALSE))=D13,"",VLOOKUP(D13,(Codigo!$B$4:$C$67),2,FALSE)) | C13: =IF(IF(ISERROR(VLOOKUP(D13,Codigo!$B$4:$C$67,2,FALSE)),"",VLOOKUP(D13,Codigo!$B$4:$C$67,2,FALSE))=D13,"",VLOOKUP(D13,(Codigo!$B$2:$D$67),3,FALSE)) | J13: =IF(H13="",(""),IF(H13="DP",(J12+G13),IF(H13="DB",(J12-G13),IF(H13="TR",(J12-G13),IF(H13="CH",(J12-G13),IF(H13="SQ",(J12-G13),J12)))))) | K13: =IF(H13="",(""),IF(H13="SQ",(K12+G13),IF(H13="RD",(K12+G13),IF(H13="DI",(K12-G13),K12)))) | L13: =IF(H13="",(""),IF(H13="CC",(L12+G13),IF(H13="PC",(L12+G13),L12)))
B14: =IF(IF(ISERROR(VLOOKUP(D14,Codigo!$B$4:$C$67,2,FALSE)),"",VLOOKUP(D14,Codigo!$B$4:$C$67,2,FALSE))=D14,"",VLOOKUP(D14,(Codigo!$B$4:$C$67),2,FALSE)) | C14: =IF(IF(ISERROR(VLOOKUP(D14,Codigo!$B$4:$C$67,2,FALSE)),"",VLOOKUP(D14,Codigo!$B$4:$C$67,2,FALSE))=D14,"",VLOOKUP(D14,(Codigo!$B$2:$D$67),3,FALSE)) | J14: =IF(H14="",(""),IF(H14="DP",(J13+G14),IF(H14="DB",(J13-G14),IF(H14="TR",(J13-G14),IF(H14="CH",(J13-G14),IF(H14="SQ",(J13-G14),J13)))))) | K14: =IF(H14="",(""),IF(H14="SQ",(K13+G14),IF(H14="RD",(K13+G14),IF(H14="DI",(K13-G14),K13)))) | L14: =IF(H14="",(""),IF(H14="CC",(L13+G14),IF(H14="PC",(L13+G14),L13)))
B15: =IF(IF(ISERROR(VLOOKUP(D15,Codigo!$B$4:$C$67,2,FALSE)),"",VLOOKUP(D15,Codigo!$B$4:$C$67,2,FALSE))=D15,"",VLOOKUP(D15,(Codigo!$B$4:$C$67),2,FALSE)) | C15: =IF(IF(ISERROR(VLOOKUP(D15,Codigo!$B$4:$C$67,2,FALSE)),"",VLOOKUP(D15,Codigo!$B$4:$C$67,2,FALSE))=D15,"",VLOOKUP(D15,(Codigo!$B$2:$D$67),3,FALSE)) | J15: =IF(H15="",(""),IF(H15="DP",(J14+G15),IF(H15="DB",(J14-G15),IF(H15="TR",(J14-G15),IF(H15="CH",(J14-G15),IF(H15="SQ",(J14-G15),J14)))))) | K15: =IF(H15="",(""),IF(H15="SQ",(K14+G15),IF(H15="RD",(K14+G15),IF(H15="DI",(K14-G15),K14)))) | L15: =IF(H15="",(""),IF(H15="CC",(L14+G15),IF(H15="PC",(L14+G15),L14)))
B16: =IF(IF(ISERROR(VLOOKUP(D16,Codigo!$B$4:$C$67,2,FALSE)),"",VLOOKUP(D16,Codigo!$B$4:$C$67,2,FALSE))=D16,"",VLOOKUP(D16,(Codigo!$B$4:$C$67),2,FALSE)) | C16: =IF(IF(ISERROR(VLOOKUP(D16,Codigo!$B$4:$C$67,2,FALSE)),"",VLOOKUP(D16,Codigo!$B$4:$C$67,2,FALSE))=D16,"",VLOOKUP(D16,(Codigo!$B$2:$D$67),3,FALSE)) | J16: =IF(H16="",(""),IF(H16="DP",(J15+G16),IF(H16="DB",(J15-G16),IF(H16="TR",(J15-G16),IF(H16="CH",(J15-G16),IF(H16="SQ",(J15-G16),J15)))))) | K16: =IF(H16="",(""),IF(H16="SQ",(K15+G16),IF(H16="RD",(K15+G16),IF(H16="DI",(K15-G16),K15)))) | L16: =IF(H16="",(""),IF(H16="CC",(L15+G16),IF(H16="PC",(L15+G16),L15)))
B17: =IF(IF(ISERROR(VLOOKUP(D17,Codigo!$B$4:$C$67,2,FALSE)),"",VLOOKUP(D17,Codigo!$B$4:$C$67,2,FALSE))=D17,"",VLOOKUP(D17,(Codigo!$B$4:$C$67),2,FALSE)) | C17: =IF(IF(ISERROR(VLOOKUP(D17,Codigo!$B$4:$C$67,2,FALSE)),"",VLOOKUP(D17,Codigo!$B$4:$C$67,2,FALSE))=D17,"",VLOOKUP(D17,(Codigo!$B$2:$D$67),3,FALSE)) | J17: =IF(H17="",(""),IF(H17="DP",(J16+G17),IF(H17="DB",(J16-G17),IF(H17="TR",(J16-G17),IF(H17="CH",(J16-G17),IF(H17="SQ",(J16-G17),J16)))))) | K17: =IF(H17="",(""),IF(H17="SQ",(K16+G17),IF(H17="RD",(K16+G17),IF(H17="DI",(K16-G17),K16)))) | L17: =IF(H17="",(""),IF(H17="CC",(L16+G17),IF(H17="PC",(L16+G17),L16)))
B18: =IF(IF(ISERROR(VLOOKUP(D18,Codigo!$B$4:$C$67,2,FALSE)),"",VLOOKUP(D18,Codigo!$B$4:$C$67,2,FALSE))=D18,"",VLOOKUP(D18,(Codigo!$B$4:$C$67),2,FALSE)) | C18: =IF(IF(ISERROR(VLOOKUP(D18,Codigo!$B$4:$C$67,2,FALSE)),"",VLOOKUP(D18,Codigo!$B$4:$C$67,2,FALSE))=D18,"",VLOOKUP(D18,(Codigo!$B$2:$D$67),3,FALSE)) | J18: =IF(H18="",(""),IF(H18="DP",(J17+G18),IF(H18="DB",(J17-G18),IF(H18="TR",(J17-G18),IF(H18="CH",(J17-G18),IF(H18="SQ",(J17-G18),J17)))))) | K18: =IF(H18="",(""),IF(H18="SQ",(K17+G18),IF(H18="RD",(K17+G18),IF(H18="DI",(K17-G18),K17)))) | L18: =IF(H18="",(""),IF(H18="CC",(L17+G18),IF(H18="PC",(L17+G18),L17)))
... B75: =IF(IF(ISERROR(VLOOKUP(D75,Codigo!$B$4:$C$67,2,FALSE)),"",VLOOKUP(D75,Codigo!$B$4:$C$67,2,FALSE))=D75,"",VLOOKUP(D75,(Codigo!$B$4:$C$67),2,FALSE)) | C75: =IF(IF(ISERROR(VLOOKUP(D75,Codigo!$B$4:$C$67,2,FALSE)),"",VLOOKUP(D75,Codigo!$B$4:$C$67,2,FALSE))=D75,"",VLOOKUP(D75,(Codigo!$B$2:$D$67),3,FALSE)) | J75: =IF(H75="",(""),IF(H75="DP",(J74+G75),IF(H75="DB",(J74-G75),IF(H75="TR",(J74-G75),IF(H75="CH",(J74-G75),IF(H75="SQ",(J74-G75),J74)))))) | K75: =IF(H75="",(""),IF(H75="SQ",(K74+G75),IF(H75="RD",(K74+G75),IF(H75="DI",(K74-G75),K74)))) | L75: =IF(H75="",(""),IF(H75="CC",(L74+G75),IF(H75="PC",(L74+G75),L74)))
F76: Saldo no mês | J76: =+J75 | K76: =+K75 | L76: =+L75
A213: 1
A214: 1

Sheet Jun
C1: Orçamento Doméstico
B2: Descritivo de Receitas e Despesas realizadas | F2: Junho | H2: =+Instruções!$I$19 -> 2026 | J2: Movimentação do saldo no mês
H3: Meio de pagamento | J3: Saldo do mês anterior
B4: Grupo de conta | C4: Sub-grupo de conta | D4: Cod. | E4: Data | F4: Descritivo | G4: Valor R$ | J4: C.Corrente (+ / -) | K4: Dinheiro (+ / -) | L4: C. de Crédito (+)
A6: 1 | B6: =IF(IF(ISERROR(VLOOKUP(D6,Codigo!$B$4:$C$67,2,FALSE)),"",VLOOKUP(D6,Codigo!$B$4:$C$67,2,FALSE))=D6,"",VLOOKUP(D6,(Codigo!$B$4:$C$67),2,FALSE)) | C6: =IF(IF(ISERROR(VLOOKUP(D6,Codigo!$B$4:$C$67,2,FALSE)),"",VLOOKUP(D6,Codigo!$B$4:$C$67,2,FALSE))=D6,"",VLOOKUP(D6,(Codigo!$B$2:$D$67),3,FALSE)) | J6: =IF(H6="",(""),IF(H6="DP",(J5+G6),IF(H6="DB",(J5-G6),IF(H6="TR",(J5-G6),IF(H6="CH",(J5-G6),IF(H6="SQ",(J5-G6),J5)))))) | K6: =IF(H6="",(""),IF(H6="SQ",(K5+G6),IF(H6="RD",(K5+G6),IF(H6="DI",(K5-G6),K5)))) | L6: =IF(H6="",(""),IF(H6="CC",(L5+G6),IF(H6="PC",(L5+G6),L5)))
B7: =IF(IF(ISERROR(VLOOKUP(D7,Codigo!$B$4:$C$67,2,FALSE)),"",VLOOKUP(D7,Codigo!$B$4:$C$67,2,FALSE))=D7,"",VLOOKUP(D7,(Codigo!$B$4:$C$67),2,FALSE)) | C7: =IF(IF(ISERROR(VLOOKUP(D7,Codigo!$B$4:$C$67,2,FALSE)),"",VLOOKUP(D7,Codigo!$B$4:$C$67,2,FALSE))=D7,"",VLOOKUP(D7,(Codigo!$B$2:$D$67),3,FALSE)) | J7: =IF(H7="",(""),IF(H7="DP",(J6+G7),IF(H7="DB",(J6-G7),IF(H7="TR",(J6-G7),IF(H7="CH",(J6-G7),IF(H7="SQ",(J6-G7),J6)))))) | K7: =IF(H7="",(""),IF(H7="SQ",(K6+G7),IF(H7="RD",(K6+G7),IF(H7="DI",(K6-G7),K6)))) | L7: =IF(H7="",(""),IF(H7="CC",(L6+G7),IF(H7="PC",(L6+G7),L6)))
B8: =IF(IF(ISERROR(VLOOKUP(D8,Codigo!$B$4:$C$67,2,FALSE)),"",VLOOKUP(D8,Codigo!$B$4:$C$67,2,FALSE))=D8,"",VLOOKUP(D8,(Codigo!$B$4:$C$67),2,FALSE)) | C8: =IF(IF(ISERROR(VLOOKUP(D8,Codigo!$B$4:$C$67,2,FALSE)),"",VLOOKUP(D8,Codigo!$B$4:$C$67,2,FALSE))=D8,"",VLOOKUP(D8,(Codigo!$B$2:$D$67),3,FALSE)) | J8: =IF(H8="",(""),IF(H8="DP",(J7+G8),IF(H8="DB",(J7-G8),IF(H8="TR",(J7-G8),IF(H8="CH",(J7-G8),IF(H8="SQ",(J7-G8),J7)))))) | K8: =IF(H8="",(""),IF(H8="SQ",(K7+G8),IF(H8="RD",(K7+G8),IF(H8="DI",(K7-G8),K7)))) | L8: =IF(H8="",(""),IF(H8="CC",(L7+G8),IF(H8="PC",(L7+G8),L7)))
B9: =IF(IF(ISERROR(VLOOKUP(D9,Codigo!$B$4:$C$67,2,FALSE)),"",VLOOKUP(D9,Codigo!$B$4:$C$67,2,FALSE))=D9,"",VLOOKUP(D9,(Codigo!$B$4:$C$67),2,FALSE)) | C9: =IF(IF(ISERROR(VLOOKUP(D9,Codigo!$B$4:$C$67,2,FALSE)),"",VLOOKUP(D9,Codigo!$B$4:$C$67,2,FALSE))=D9,"",VLOOKUP(D9,(Codigo!$B$2:$D$67),3,FALSE)) | J9: =IF(H9="",(""),IF(H9="DP",(J8+G9),IF(H9="DB",(J8-G9),IF(H9="TR",(J8-G9),IF(H9="CH",(J8-G9),IF(H9="SQ",(J8-G9),J8)))))) | K9: =IF(H9="",(""),IF(H9="SQ",(K8+G9),IF(H9="RD",(K8+G9),IF(H9="DI",(K8-G9),K8)))) | L9: =IF(H9="",(""),IF(H9="CC",(L8+G9),IF(H9="PC",(L8+G9),L8)))
B10: =IF(IF(ISERROR(VLOOKUP(D10,Codigo!$B$4:$C$67,2,FALSE)),"",VLOOKUP(D10,Codigo!$B$4:$C$67,2,FALSE))=D10,"",VLOOKUP(D10,(Codigo!$B$4:$C$67),2,FALSE)) | C10: =IF(IF(ISERROR(VLOOKUP(D10,Codigo!$B$4:$C$67,2,FALSE)),"",VLOOKUP(D10,Codigo!$B$4:$C$67,2,FALSE))=D10,"",VLOOKUP(D10,(Codigo!$B$2:$D$67),3,FALSE)) | J10: =IF(H10="",(""),IF(H10="DP",(J9+G10),IF(H10="DB",(J9-G10),IF(H10="TR",(J9-G10),IF(H10="CH",(J9-G10),IF(H10="SQ",(J9-G10),J9)))))) | K10: =IF(H10="",(""),IF(H10="SQ",(K9+G10),IF(H10="RD",(K9+G10),IF(H10="DI",(K9-G10),K9)))) | L10: =IF(H10="",(""),IF(H10="CC",(L9+G10),IF(H10="PC",(L9+G10),L9)))
B11: =IF(IF(ISERROR(VLOOKUP(D11,Codigo!$B$4:$C$67,2,FALSE)),"",VLOOKUP(D11,Codigo!$B$4:$C$67,2,FALSE))=D11,"",VLOOKUP(D11,(Codigo!$B$4:$C$67),2,FALSE)) | C11: =IF(IF(ISERROR(VLOOKUP(D11,Codigo!$B$4:$C$67,2,FALSE)),"",VLOOKUP(D11,Codigo!$B$4:$C$67,2,FALSE))=D11,"",VLOOKUP(D11,(Codigo!$B$2:$D$67),3,FALSE)) | J11: =IF(H11="",(""),IF(H11="DP",(J10+G11),IF(H11="DB",(J10-G11),IF(H11="TR",(J10-G11),IF(H11="CH",(J10-G11),IF(H11="SQ",(J10-G11),J10)))))) | K11: =IF(H11="",(""),IF(H11="SQ",(K10+G11),IF(H11="RD",(K10+G11),IF(H11="DI",(K10-G11),K10)))) | L11: =IF(H11="",(""),IF(H11="CC",(L10+G11),IF(H11="PC",(L10+G11),L10)))
B12: =IF(IF(ISERROR(VLOOKUP(D12,Codigo!$B$4:$C$67,2,FALSE)),"",VLOOKUP(D12,Codigo!$B$4:$C$67,2,FALSE))=D12,"",VLOOKUP(D12,(Codigo!$B$4:$C$67),2,FALSE)) | C12: =IF(IF(ISERROR(VLOOKUP(D12,Codigo!$B$4:$C$67,2,FALSE)),"",VLOOKUP(D12,Codigo!$B$4:$C$67,2,FALSE))=D12,"",VLOOKUP(D12,(Codigo!$B$2:$D$67),3,FALSE)) | J12: =IF(H12="",(""),IF(H12="DP",(J11+G12),IF(H12="DB",(J11-G12),IF(H12="TR",(J11-G12),IF(H12="CH",(J11-G12),IF(H12="SQ",(J11-G12),J11)))))) | K12: =IF(H12="",(""),IF(H12="SQ",(K11+G12),IF(H12="RD",(K11+G12),IF(H12="DI",(K11-G12),K11)))) | L12: =IF(H12="",(""),IF(H12="CC",(L11+G12),IF(H12="PC",(L11+G12),L11)))
B13: =IF(IF(ISERROR(VLOOKUP(D13,Codigo!$B$4:$C$67,2,FALSE)),"",VLOOKUP(D13,Codigo!$B$4:$C$67,2,FALSE))=D13,"",VLOOKUP(D13,(Codigo!$B$4:$C$67),2,FALSE)) | C13: =IF(IF(ISERROR(VLOOKUP(D13,Codigo!$B$4:$C$67,2,FALSE)),"",VLOOKUP(D13,Codigo!$B$4:$C$67,2,FALSE))=D13,"",VLOOKUP(D13,(Codigo!$B$2:$D$67),3,FALSE)) | J13: =IF(H13="",(""),IF(H13="DP",(J12+G13),IF(H13="DB",(J12-G13),IF(H13="TR",(J12-G13),IF(H13="CH",(J12-G13),IF(H13="SQ",(J12-G13),J12)))))) | K13: =IF(H13="",(""),IF(H13="SQ",(K12+G13),IF(H13="RD",(K12+G13),IF(H13="DI",(K12-G13),K12)))) | L13: =IF(H13="",(""),IF(H13="CC",(L12+G13),IF(H13="PC",(L12+G13),L12)))
B14: =IF(IF(ISERROR(VLOOKUP(D14,Codigo!$B$4:$C$67,2,FALSE)),"",VLOOKUP(D14,Codigo!$B$4:$C$67,2,FALSE))=D14,"",VLOOKUP(D14,(Codigo!$B$4:$C$67),2,FALSE)) | C14: =IF(IF(ISERROR(VLOOKUP(D14,Codigo!$B$4:$C$67,2,FALSE)),"",VLOOKUP(D14,Codigo!$B$4:$C$67,2,FALSE))=D14,"",VLOOKUP(D14,(Codigo!$B$2:$D$67),3,FALSE)) | J14: =IF(H14="",(""),IF(H14="DP",(J13+G14),IF(H14="DB",(J13-G14),IF(H14="TR",(J13-G14),IF(H14="CH",(J13-G14),IF(H14="SQ",(J13-G14),J13)))))) | K14: =IF(H14="",(""),IF(H14="SQ",(K13+G14),IF(H14="RD",(K13+G14),IF(H14="DI",(K13-G14),K13)))) | L14: =IF(H14="",(""),IF(H14="CC",(L13+G14),IF(H14="PC",(L13+G14),L13)))
B15: =IF(IF(ISERROR(VLOOKUP(D15,Codigo!$B$4:$C$67,2,FALSE)),"",VLOOKUP(D15,Codigo!$B$4:$C$67,2,FALSE))=D15,"",VLOOKUP(D15,(Codigo!$B$4:$C$67),2,FALSE)) | C15: =IF(IF(ISERROR(VLOOKUP(D15,Codigo!$B$4:$C$67,2,FALSE)),"",VLOOKUP(D15,Codigo!$B$4:$C$67,2,FALSE))=D15,"",VLOOKUP(D15,(Codigo!$B$2:$D$67),3,FALSE)) | J15: =IF(H15="",(""),IF(H15="DP",(J14+G15),IF(H15="DB",(J14-G15),IF(H15="TR",(J14-G15),IF(H15="CH",(J14-G15),IF(H15="SQ",(J14-G15),J14)))))) | K15: =IF(H15="",(""),IF(H15="SQ",(K14+G15),IF(H15="RD",(K14+G15),IF(H15="DI",(K14-G15),K14)))) | L15: =IF(H15="",(""),IF(H15="CC",(L14+G15),IF(H15="PC",(L14+G15),L14)))
B16: =IF(IF(ISERROR(VLOOKUP(D16,Codigo!$B$4:$C$67,2,FALSE)),"",VLOOKUP(D16,Codigo!$B$4:$C$67,2,FALSE))=D16,"",VLOOKUP(D16,(Codigo!$B$4:$C$67),2,FALSE)) | C16: =IF(IF(ISERROR(VLOOKUP(D16,Codigo!$B$4:$C$67,2,FALSE)),"",VLOOKUP(D16,Codigo!$B$4:$C$67,2,FALSE))=D16,"",VLOOKUP(D16,(Codigo!$B$2:$D$67),3,FALSE)) | J16: =IF(H16="",(""),IF(H16="DP",(J15+G16),IF(H16="DB",(J15-G16),IF(H16="TR",(J15-G16),IF(H16="CH",(J15-G16),IF(H16="SQ",(J15-G16),J15)))))) | K16: =IF(H16="",(""),IF(H16="SQ",(K15+G16),IF(H16="RD",(K15+G16),IF(H16="DI",(K15-G16),K15)))) | L16: =IF(H16="",(""),IF(H16="CC",(L15+G16),IF(H16="PC",(L15+G16),L15)))
B17: =IF(IF(ISERROR(VLOOKUP(D17,Codigo!$B$4:$C$67,2,FALSE)),"",VLOOKUP(D17,Codigo!$B$4:$C$67,2,FALSE))=D17,"",VLOOKUP(D17,(Codigo!$B$4:$C$67),2,FALSE)) | C17: =IF(IF(ISERROR(VLOOKUP(D17,Codigo!$B$4:$C$67,2,FALSE)),"",VLOOKUP(D17,Codigo!$B$4:$C$67,2,FALSE))=D17,"",VLOOKUP(D17,(Codigo!$B$2:$D$67),3,FALSE)) | J17: =IF(H17="",(""),IF(H17="DP",(J16+G17),IF(H17="DB",(J16-G17),IF(H17="TR",(J16-G17),IF(H17="CH",(J16-G17),IF(H17="SQ",(J16-G17),J16)))))) | K17: =IF(H17="",(""),IF(H17="SQ",(K16+G17),IF(H17="RD",(K16+G17),IF(H17="DI",(K16-G17),K16)))) | L17: =IF(H17="",(""),IF(H17="CC",(L16+G17),IF(H17="PC",(L16+G17),L16)))
